BEGIN:VCALENDAR
VERSION:2.0
PRODID:-//Presentation Brothers - ECPv6.9.0//NONSGML v1.0//EN
CALSCALE:GREGORIAN
METHOD:PUBLISH
X-ORIGINAL-URL:https://training.actondev9.com
X-WR-CALDESC:Events for Presentation Brothers
REFRESH-INTERVAL;VALUE=DURATION:PT1H
X-Robots-Tag:noindex
X-PUBLISHED-TTL:PT1H
BEGIN:VTIMEZONE
TZID:UTC
BEGIN:STANDARD
TZOFFSETFROM:+0000
TZOFFSETTO:+0000
TZNAME:UTC
DTSTART:20270101T000000
END:STANDARD
END:VTIMEZONE
BEGIN:VEVENT
DTSTART;TZID=UTC:20271020T180000
DTEND;TZID=UTC:20271020T200000
DTSTAMP:20260421T165012
CREATED:20250117T115713Z
LAST-MODIFIED:20250117T115713Z
UID:10001078-1824055200-1824062400@training.actondev9.com
SUMMARY:Sycamore
DESCRIPTION:Sycamore is an informal course about the Christian faith and its relevance for life today. It gives you space to meet other people\, share ideas\, explore your beliefs\, and think about questions that really matter. Each session involves a short film\, time for discussion and pizza. This course is for 18-35 year olds. \nWe meet in Mardyke House\, Cork\, T12W8RP\, each Wednesday from 6-8pm. Everyone is welcome. \nFor more information please email miriamdunne@presentationbrothers.org
URL:https://training.actondev9.com/event/sycamore-2-2-2/2027-10-20/
CATEGORIES:LEAF
ATTACH;FMTTYPE=image/jpeg:https://training.actondev9.com/wp-content/uploads/2024/11/Sycamore-poster.jpg
END:VEVENT
BEGIN:VEVENT
DTSTART;TZID=UTC:20271020T180000
DTEND;TZID=UTC:20271020T200000
DTSTAMP:20260421T165012
CREATED:20250117T115909Z
LAST-MODIFIED:20250117T120042Z
UID:10001337-1824055200-1824062400@training.actondev9.com
SUMMARY:Sycamore
DESCRIPTION:Sycamore is an informal course about the Christian faith and its relevance for life today. It gives you space to meet other people\, share ideas\, explore your beliefs\, and think about questions that really matter. Each session involves a short film\, time for discussion and pizza. This course is for 18-35 year olds. \nWe meet in Mardyke House\, Cork\, T12W8RP\, each Wednesday from 6-8pm. Everyone is welcome. \nFor more information please email miriamdunne@presentationbrothers.org
URL:https://training.actondev9.com/event/sycamore-2-2-2-2/2027-10-20/
CATEGORIES:LEAF
ATTACH;FMTTYPE=image/jpeg:https://training.actondev9.com/wp-content/uploads/2024/11/Sycamore-poster.jpg
END:VEVENT
BEGIN:VEVENT
DTSTART;TZID=UTC:20271027T180000
DTEND;TZID=UTC:20271027T200000
DTSTAMP:20260421T165012
CREATED:20250117T115713Z
LAST-MODIFIED:20250117T115713Z
UID:10001079-1824660000-1824667200@training.actondev9.com
SUMMARY:Sycamore
DESCRIPTION:Sycamore is an informal course about the Christian faith and its relevance for life today. It gives you space to meet other people\, share ideas\, explore your beliefs\, and think about questions that really matter. Each session involves a short film\, time for discussion and pizza. This course is for 18-35 year olds. \nWe meet in Mardyke House\, Cork\, T12W8RP\, each Wednesday from 6-8pm. Everyone is welcome. \nFor more information please email miriamdunne@presentationbrothers.org
URL:https://training.actondev9.com/event/sycamore-2-2-2/2027-10-27/
CATEGORIES:LEAF
ATTACH;FMTTYPE=image/jpeg:https://training.actondev9.com/wp-content/uploads/2024/11/Sycamore-poster.jpg
END:VEVENT
BEGIN:VEVENT
DTSTART;TZID=UTC:20271027T180000
DTEND;TZID=UTC:20271027T200000
DTSTAMP:20260421T165012
CREATED:20250117T115909Z
LAST-MODIFIED:20250117T120042Z
UID:10001338-1824660000-1824667200@training.actondev9.com
SUMMARY:Sycamore
DESCRIPTION:Sycamore is an informal course about the Christian faith and its relevance for life today. It gives you space to meet other people\, share ideas\, explore your beliefs\, and think about questions that really matter. Each session involves a short film\, time for discussion and pizza. This course is for 18-35 year olds. \nWe meet in Mardyke House\, Cork\, T12W8RP\, each Wednesday from 6-8pm. Everyone is welcome. \nFor more information please email miriamdunne@presentationbrothers.org
URL:https://training.actondev9.com/event/sycamore-2-2-2-2/2027-10-27/
CATEGORIES:LEAF
ATTACH;FMTTYPE=image/jpeg:https://training.actondev9.com/wp-content/uploads/2024/11/Sycamore-poster.jpg
END:VEVENT
BEGIN:VEVENT
DTSTART;TZID=UTC:20271103T180000
DTEND;TZID=UTC:20271103T200000
DTSTAMP:20260421T165012
CREATED:20250117T115713Z
LAST-MODIFIED:20250117T115713Z
UID:10001080-1825264800-1825272000@training.actondev9.com
SUMMARY:Sycamore
DESCRIPTION:Sycamore is an informal course about the Christian faith and its relevance for life today. It gives you space to meet other people\, share ideas\, explore your beliefs\, and think about questions that really matter. Each session involves a short film\, time for discussion and pizza. This course is for 18-35 year olds. \nWe meet in Mardyke House\, Cork\, T12W8RP\, each Wednesday from 6-8pm. Everyone is welcome. \nFor more information please email miriamdunne@presentationbrothers.org
URL:https://training.actondev9.com/event/sycamore-2-2-2/2027-11-03/
CATEGORIES:LEAF
ATTACH;FMTTYPE=image/jpeg:https://training.actondev9.com/wp-content/uploads/2024/11/Sycamore-poster.jpg
END:VEVENT
BEGIN:VEVENT
DTSTART;TZID=UTC:20271103T180000
DTEND;TZID=UTC:20271103T200000
DTSTAMP:20260421T165012
CREATED:20250117T115909Z
LAST-MODIFIED:20250117T120042Z
UID:10001339-1825264800-1825272000@training.actondev9.com
SUMMARY:Sycamore
DESCRIPTION:Sycamore is an informal course about the Christian faith and its relevance for life today. It gives you space to meet other people\, share ideas\, explore your beliefs\, and think about questions that really matter. Each session involves a short film\, time for discussion and pizza. This course is for 18-35 year olds. \nWe meet in Mardyke House\, Cork\, T12W8RP\, each Wednesday from 6-8pm. Everyone is welcome. \nFor more information please email miriamdunne@presentationbrothers.org
URL:https://training.actondev9.com/event/sycamore-2-2-2-2/2027-11-03/
CATEGORIES:LEAF
ATTACH;FMTTYPE=image/jpeg:https://training.actondev9.com/wp-content/uploads/2024/11/Sycamore-poster.jpg
END:VEVENT
BEGIN:VEVENT
DTSTART;TZID=UTC:20271110T180000
DTEND;TZID=UTC:20271110T200000
DTSTAMP:20260421T165012
CREATED:20250117T115713Z
LAST-MODIFIED:20250117T115713Z
UID:10001081-1825869600-1825876800@training.actondev9.com
SUMMARY:Sycamore
DESCRIPTION:Sycamore is an informal course about the Christian faith and its relevance for life today. It gives you space to meet other people\, share ideas\, explore your beliefs\, and think about questions that really matter. Each session involves a short film\, time for discussion and pizza. This course is for 18-35 year olds. \nWe meet in Mardyke House\, Cork\, T12W8RP\, each Wednesday from 6-8pm. Everyone is welcome. \nFor more information please email miriamdunne@presentationbrothers.org
URL:https://training.actondev9.com/event/sycamore-2-2-2/2027-11-10/
CATEGORIES:LEAF
ATTACH;FMTTYPE=image/jpeg:https://training.actondev9.com/wp-content/uploads/2024/11/Sycamore-poster.jpg
END:VEVENT
BEGIN:VEVENT
DTSTART;TZID=UTC:20271110T180000
DTEND;TZID=UTC:20271110T200000
DTSTAMP:20260421T165012
CREATED:20250117T115909Z
LAST-MODIFIED:20250117T120042Z
UID:10001340-1825869600-1825876800@training.actondev9.com
SUMMARY:Sycamore
DESCRIPTION:Sycamore is an informal course about the Christian faith and its relevance for life today. It gives you space to meet other people\, share ideas\, explore your beliefs\, and think about questions that really matter. Each session involves a short film\, time for discussion and pizza. This course is for 18-35 year olds. \nWe meet in Mardyke House\, Cork\, T12W8RP\, each Wednesday from 6-8pm. Everyone is welcome. \nFor more information please email miriamdunne@presentationbrothers.org
URL:https://training.actondev9.com/event/sycamore-2-2-2-2/2027-11-10/
CATEGORIES:LEAF
ATTACH;FMTTYPE=image/jpeg:https://training.actondev9.com/wp-content/uploads/2024/11/Sycamore-poster.jpg
END:VEVENT
BEGIN:VEVENT
DTSTART;TZID=UTC:20271117T180000
DTEND;TZID=UTC:20271117T200000
DTSTAMP:20260421T165012
CREATED:20250117T115713Z
LAST-MODIFIED:20250117T115713Z
UID:10001082-1826474400-1826481600@training.actondev9.com
SUMMARY:Sycamore
DESCRIPTION:Sycamore is an informal course about the Christian faith and its relevance for life today. It gives you space to meet other people\, share ideas\, explore your beliefs\, and think about questions that really matter. Each session involves a short film\, time for discussion and pizza. This course is for 18-35 year olds. \nWe meet in Mardyke House\, Cork\, T12W8RP\, each Wednesday from 6-8pm. Everyone is welcome. \nFor more information please email miriamdunne@presentationbrothers.org
URL:https://training.actondev9.com/event/sycamore-2-2-2/2027-11-17/
CATEGORIES:LEAF
ATTACH;FMTTYPE=image/jpeg:https://training.actondev9.com/wp-content/uploads/2024/11/Sycamore-poster.jpg
END:VEVENT
BEGIN:VEVENT
DTSTART;TZID=UTC:20271117T180000
DTEND;TZID=UTC:20271117T200000
DTSTAMP:20260421T165012
CREATED:20250117T115909Z
LAST-MODIFIED:20250117T120042Z
UID:10001341-1826474400-1826481600@training.actondev9.com
SUMMARY:Sycamore
DESCRIPTION:Sycamore is an informal course about the Christian faith and its relevance for life today. It gives you space to meet other people\, share ideas\, explore your beliefs\, and think about questions that really matter. Each session involves a short film\, time for discussion and pizza. This course is for 18-35 year olds. \nWe meet in Mardyke House\, Cork\, T12W8RP\, each Wednesday from 6-8pm. Everyone is welcome. \nFor more information please email miriamdunne@presentationbrothers.org
URL:https://training.actondev9.com/event/sycamore-2-2-2-2/2027-11-17/
CATEGORIES:LEAF
ATTACH;FMTTYPE=image/jpeg:https://training.actondev9.com/wp-content/uploads/2024/11/Sycamore-poster.jpg
END:VEVENT
BEGIN:VEVENT
DTSTART;TZID=UTC:20271124T180000
DTEND;TZID=UTC:20271124T200000
DTSTAMP:20260421T165012
CREATED:20250117T115713Z
LAST-MODIFIED:20250117T115713Z
UID:10001083-1827079200-1827086400@training.actondev9.com
SUMMARY:Sycamore
DESCRIPTION:Sycamore is an informal course about the Christian faith and its relevance for life today. It gives you space to meet other people\, share ideas\, explore your beliefs\, and think about questions that really matter. Each session involves a short film\, time for discussion and pizza. This course is for 18-35 year olds. \nWe meet in Mardyke House\, Cork\, T12W8RP\, each Wednesday from 6-8pm. Everyone is welcome. \nFor more information please email miriamdunne@presentationbrothers.org
URL:https://training.actondev9.com/event/sycamore-2-2-2/2027-11-24/
CATEGORIES:LEAF
ATTACH;FMTTYPE=image/jpeg:https://training.actondev9.com/wp-content/uploads/2024/11/Sycamore-poster.jpg
END:VEVENT
BEGIN:VEVENT
DTSTART;TZID=UTC:20271124T180000
DTEND;TZID=UTC:20271124T200000
DTSTAMP:20260421T165012
CREATED:20250117T115909Z
LAST-MODIFIED:20250117T120042Z
UID:10001342-1827079200-1827086400@training.actondev9.com
SUMMARY:Sycamore
DESCRIPTION:Sycamore is an informal course about the Christian faith and its relevance for life today. It gives you space to meet other people\, share ideas\, explore your beliefs\, and think about questions that really matter. Each session involves a short film\, time for discussion and pizza. This course is for 18-35 year olds. \nWe meet in Mardyke House\, Cork\, T12W8RP\, each Wednesday from 6-8pm. Everyone is welcome. \nFor more information please email miriamdunne@presentationbrothers.org
URL:https://training.actondev9.com/event/sycamore-2-2-2-2/2027-11-24/
CATEGORIES:LEAF
ATTACH;FMTTYPE=image/jpeg:https://training.actondev9.com/wp-content/uploads/2024/11/Sycamore-poster.jpg
END:VEVENT
BEGIN:VEVENT
DTSTART;TZID=UTC:20271201T180000
DTEND;TZID=UTC:20271201T200000
DTSTAMP:20260421T165012
CREATED:20250117T115713Z
LAST-MODIFIED:20250117T115713Z
UID:10001084-1827684000-1827691200@training.actondev9.com
SUMMARY:Sycamore
DESCRIPTION:Sycamore is an informal course about the Christian faith and its relevance for life today. It gives you space to meet other people\, share ideas\, explore your beliefs\, and think about questions that really matter. Each session involves a short film\, time for discussion and pizza. This course is for 18-35 year olds. \nWe meet in Mardyke House\, Cork\, T12W8RP\, each Wednesday from 6-8pm. Everyone is welcome. \nFor more information please email miriamdunne@presentationbrothers.org
URL:https://training.actondev9.com/event/sycamore-2-2-2/2027-12-01/
CATEGORIES:LEAF
ATTACH;FMTTYPE=image/jpeg:https://training.actondev9.com/wp-content/uploads/2024/11/Sycamore-poster.jpg
END:VEVENT
BEGIN:VEVENT
DTSTART;TZID=UTC:20271201T180000
DTEND;TZID=UTC:20271201T200000
DTSTAMP:20260421T165012
CREATED:20250117T115909Z
LAST-MODIFIED:20250117T120042Z
UID:10001343-1827684000-1827691200@training.actondev9.com
SUMMARY:Sycamore
DESCRIPTION:Sycamore is an informal course about the Christian faith and its relevance for life today. It gives you space to meet other people\, share ideas\, explore your beliefs\, and think about questions that really matter. Each session involves a short film\, time for discussion and pizza. This course is for 18-35 year olds. \nWe meet in Mardyke House\, Cork\, T12W8RP\, each Wednesday from 6-8pm. Everyone is welcome. \nFor more information please email miriamdunne@presentationbrothers.org
URL:https://training.actondev9.com/event/sycamore-2-2-2-2/2027-12-01/
CATEGORIES:LEAF
ATTACH;FMTTYPE=image/jpeg:https://training.actondev9.com/wp-content/uploads/2024/11/Sycamore-poster.jpg
END:VEVENT
BEGIN:VEVENT
DTSTART;TZID=UTC:20271208T180000
DTEND;TZID=UTC:20271208T200000
DTSTAMP:20260421T165012
CREATED:20250117T115713Z
LAST-MODIFIED:20250117T115713Z
UID:10001085-1828288800-1828296000@training.actondev9.com
SUMMARY:Sycamore
DESCRIPTION:Sycamore is an informal course about the Christian faith and its relevance for life today. It gives you space to meet other people\, share ideas\, explore your beliefs\, and think about questions that really matter. Each session involves a short film\, time for discussion and pizza. This course is for 18-35 year olds. \nWe meet in Mardyke House\, Cork\, T12W8RP\, each Wednesday from 6-8pm. Everyone is welcome. \nFor more information please email miriamdunne@presentationbrothers.org
URL:https://training.actondev9.com/event/sycamore-2-2-2/2027-12-08/
CATEGORIES:LEAF
ATTACH;FMTTYPE=image/jpeg:https://training.actondev9.com/wp-content/uploads/2024/11/Sycamore-poster.jpg
END:VEVENT
BEGIN:VEVENT
DTSTART;TZID=UTC:20271208T180000
DTEND;TZID=UTC:20271208T200000
DTSTAMP:20260421T165012
CREATED:20250117T115909Z
LAST-MODIFIED:20250117T120042Z
UID:10001344-1828288800-1828296000@training.actondev9.com
SUMMARY:Sycamore
DESCRIPTION:Sycamore is an informal course about the Christian faith and its relevance for life today. It gives you space to meet other people\, share ideas\, explore your beliefs\, and think about questions that really matter. Each session involves a short film\, time for discussion and pizza. This course is for 18-35 year olds. \nWe meet in Mardyke House\, Cork\, T12W8RP\, each Wednesday from 6-8pm. Everyone is welcome. \nFor more information please email miriamdunne@presentationbrothers.org
URL:https://training.actondev9.com/event/sycamore-2-2-2-2/2027-12-08/
CATEGORIES:LEAF
ATTACH;FMTTYPE=image/jpeg:https://training.actondev9.com/wp-content/uploads/2024/11/Sycamore-poster.jpg
END:VEVENT
BEGIN:VEVENT
DTSTART;TZID=UTC:20271215T180000
DTEND;TZID=UTC:20271215T200000
DTSTAMP:20260421T165012
CREATED:20250117T115713Z
LAST-MODIFIED:20250117T115713Z
UID:10001086-1828893600-1828900800@training.actondev9.com
SUMMARY:Sycamore
DESCRIPTION:Sycamore is an informal course about the Christian faith and its relevance for life today. It gives you space to meet other people\, share ideas\, explore your beliefs\, and think about questions that really matter. Each session involves a short film\, time for discussion and pizza. This course is for 18-35 year olds. \nWe meet in Mardyke House\, Cork\, T12W8RP\, each Wednesday from 6-8pm. Everyone is welcome. \nFor more information please email miriamdunne@presentationbrothers.org
URL:https://training.actondev9.com/event/sycamore-2-2-2/2027-12-15/
CATEGORIES:LEAF
ATTACH;FMTTYPE=image/jpeg:https://training.actondev9.com/wp-content/uploads/2024/11/Sycamore-poster.jpg
END:VEVENT
BEGIN:VEVENT
DTSTART;TZID=UTC:20271215T180000
DTEND;TZID=UTC:20271215T200000
DTSTAMP:20260421T165012
CREATED:20250117T115909Z
LAST-MODIFIED:20250117T120042Z
UID:10001345-1828893600-1828900800@training.actondev9.com
SUMMARY:Sycamore
DESCRIPTION:Sycamore is an informal course about the Christian faith and its relevance for life today. It gives you space to meet other people\, share ideas\, explore your beliefs\, and think about questions that really matter. Each session involves a short film\, time for discussion and pizza. This course is for 18-35 year olds. \nWe meet in Mardyke House\, Cork\, T12W8RP\, each Wednesday from 6-8pm. Everyone is welcome. \nFor more information please email miriamdunne@presentationbrothers.org
URL:https://training.actondev9.com/event/sycamore-2-2-2-2/2027-12-15/
CATEGORIES:LEAF
ATTACH;FMTTYPE=image/jpeg:https://training.actondev9.com/wp-content/uploads/2024/11/Sycamore-poster.jpg
END:VEVENT
BEGIN:VEVENT
DTSTART;TZID=UTC:20271222T180000
DTEND;TZID=UTC:20271222T200000
DTSTAMP:20260421T165012
CREATED:20250117T115713Z
LAST-MODIFIED:20250117T115713Z
UID:10001087-1829498400-1829505600@training.actondev9.com
SUMMARY:Sycamore
DESCRIPTION:Sycamore is an informal course about the Christian faith and its relevance for life today. It gives you space to meet other people\, share ideas\, explore your beliefs\, and think about questions that really matter. Each session involves a short film\, time for discussion and pizza. This course is for 18-35 year olds. \nWe meet in Mardyke House\, Cork\, T12W8RP\, each Wednesday from 6-8pm. Everyone is welcome. \nFor more information please email miriamdunne@presentationbrothers.org
URL:https://training.actondev9.com/event/sycamore-2-2-2/2027-12-22/
CATEGORIES:LEAF
ATTACH;FMTTYPE=image/jpeg:https://training.actondev9.com/wp-content/uploads/2024/11/Sycamore-poster.jpg
END:VEVENT
BEGIN:VEVENT
DTSTART;TZID=UTC:20271222T180000
DTEND;TZID=UTC:20271222T200000
DTSTAMP:20260421T165012
CREATED:20250117T115909Z
LAST-MODIFIED:20250117T120042Z
UID:10001346-1829498400-1829505600@training.actondev9.com
SUMMARY:Sycamore
DESCRIPTION:Sycamore is an informal course about the Christian faith and its relevance for life today. It gives you space to meet other people\, share ideas\, explore your beliefs\, and think about questions that really matter. Each session involves a short film\, time for discussion and pizza. This course is for 18-35 year olds. \nWe meet in Mardyke House\, Cork\, T12W8RP\, each Wednesday from 6-8pm. Everyone is welcome. \nFor more information please email miriamdunne@presentationbrothers.org
URL:https://training.actondev9.com/event/sycamore-2-2-2-2/2027-12-22/
CATEGORIES:LEAF
ATTACH;FMTTYPE=image/jpeg:https://training.actondev9.com/wp-content/uploads/2024/11/Sycamore-poster.jpg
END:VEVENT
BEGIN:VEVENT
DTSTART;TZID=UTC:20271229T180000
DTEND;TZID=UTC:20271229T200000
DTSTAMP:20260421T165012
CREATED:20250117T115713Z
LAST-MODIFIED:20250117T115713Z
UID:10001088-1830103200-1830110400@training.actondev9.com
SUMMARY:Sycamore
DESCRIPTION:Sycamore is an informal course about the Christian faith and its relevance for life today. It gives you space to meet other people\, share ideas\, explore your beliefs\, and think about questions that really matter. Each session involves a short film\, time for discussion and pizza. This course is for 18-35 year olds. \nWe meet in Mardyke House\, Cork\, T12W8RP\, each Wednesday from 6-8pm. Everyone is welcome. \nFor more information please email miriamdunne@presentationbrothers.org
URL:https://training.actondev9.com/event/sycamore-2-2-2/2027-12-29/
CATEGORIES:LEAF
ATTACH;FMTTYPE=image/jpeg:https://training.actondev9.com/wp-content/uploads/2024/11/Sycamore-poster.jpg
END:VEVENT
BEGIN:VEVENT
DTSTART;TZID=UTC:20271229T180000
DTEND;TZID=UTC:20271229T200000
DTSTAMP:20260421T165012
CREATED:20250117T115909Z
LAST-MODIFIED:20250117T120042Z
UID:10001347-1830103200-1830110400@training.actondev9.com
SUMMARY:Sycamore
DESCRIPTION:Sycamore is an informal course about the Christian faith and its relevance for life today. It gives you space to meet other people\, share ideas\, explore your beliefs\, and think about questions that really matter. Each session involves a short film\, time for discussion and pizza. This course is for 18-35 year olds. \nWe meet in Mardyke House\, Cork\, T12W8RP\, each Wednesday from 6-8pm. Everyone is welcome. \nFor more information please email miriamdunne@presentationbrothers.org
URL:https://training.actondev9.com/event/sycamore-2-2-2-2/2027-12-29/
CATEGORIES:LEAF
ATTACH;FMTTYPE=image/jpeg:https://training.actondev9.com/wp-content/uploads/2024/11/Sycamore-poster.jpg
END:VEVENT
BEGIN:VEVENT
DTSTART;TZID=UTC:20280105T180000
DTEND;TZID=UTC:20280105T200000
DTSTAMP:20260421T165012
CREATED:20250117T115713Z
LAST-MODIFIED:20250117T115713Z
UID:10001089-1830708000-1830715200@training.actondev9.com
SUMMARY:Sycamore
DESCRIPTION:Sycamore is an informal course about the Christian faith and its relevance for life today. It gives you space to meet other people\, share ideas\, explore your beliefs\, and think about questions that really matter. Each session involves a short film\, time for discussion and pizza. This course is for 18-35 year olds. \nWe meet in Mardyke House\, Cork\, T12W8RP\, each Wednesday from 6-8pm. Everyone is welcome. \nFor more information please email miriamdunne@presentationbrothers.org
URL:https://training.actondev9.com/event/sycamore-2-2-2/2028-01-05/
CATEGORIES:LEAF
ATTACH;FMTTYPE=image/jpeg:https://training.actondev9.com/wp-content/uploads/2024/11/Sycamore-poster.jpg
END:VEVENT
BEGIN:VEVENT
DTSTART;TZID=UTC:20280105T180000
DTEND;TZID=UTC:20280105T200000
DTSTAMP:20260421T165012
CREATED:20250117T115909Z
LAST-MODIFIED:20250117T120042Z
UID:10001348-1830708000-1830715200@training.actondev9.com
SUMMARY:Sycamore
DESCRIPTION:Sycamore is an informal course about the Christian faith and its relevance for life today. It gives you space to meet other people\, share ideas\, explore your beliefs\, and think about questions that really matter. Each session involves a short film\, time for discussion and pizza. This course is for 18-35 year olds. \nWe meet in Mardyke House\, Cork\, T12W8RP\, each Wednesday from 6-8pm. Everyone is welcome. \nFor more information please email miriamdunne@presentationbrothers.org
URL:https://training.actondev9.com/event/sycamore-2-2-2-2/2028-01-05/
CATEGORIES:LEAF
ATTACH;FMTTYPE=image/jpeg:https://training.actondev9.com/wp-content/uploads/2024/11/Sycamore-poster.jpg
END:VEVENT
BEGIN:VEVENT
DTSTART;TZID=UTC:20280112T180000
DTEND;TZID=UTC:20280112T200000
DTSTAMP:20260421T165012
CREATED:20250117T115713Z
LAST-MODIFIED:20250117T115713Z
UID:10001090-1831312800-1831320000@training.actondev9.com
SUMMARY:Sycamore
DESCRIPTION:Sycamore is an informal course about the Christian faith and its relevance for life today. It gives you space to meet other people\, share ideas\, explore your beliefs\, and think about questions that really matter. Each session involves a short film\, time for discussion and pizza. This course is for 18-35 year olds. \nWe meet in Mardyke House\, Cork\, T12W8RP\, each Wednesday from 6-8pm. Everyone is welcome. \nFor more information please email miriamdunne@presentationbrothers.org
URL:https://training.actondev9.com/event/sycamore-2-2-2/2028-01-12/
CATEGORIES:LEAF
ATTACH;FMTTYPE=image/jpeg:https://training.actondev9.com/wp-content/uploads/2024/11/Sycamore-poster.jpg
END:VEVENT
BEGIN:VEVENT
DTSTART;TZID=UTC:20280112T180000
DTEND;TZID=UTC:20280112T200000
DTSTAMP:20260421T165012
CREATED:20250117T115909Z
LAST-MODIFIED:20250117T120042Z
UID:10001349-1831312800-1831320000@training.actondev9.com
SUMMARY:Sycamore
DESCRIPTION:Sycamore is an informal course about the Christian faith and its relevance for life today. It gives you space to meet other people\, share ideas\, explore your beliefs\, and think about questions that really matter. Each session involves a short film\, time for discussion and pizza. This course is for 18-35 year olds. \nWe meet in Mardyke House\, Cork\, T12W8RP\, each Wednesday from 6-8pm. Everyone is welcome. \nFor more information please email miriamdunne@presentationbrothers.org
URL:https://training.actondev9.com/event/sycamore-2-2-2-2/2028-01-12/
CATEGORIES:LEAF
ATTACH;FMTTYPE=image/jpeg:https://training.actondev9.com/wp-content/uploads/2024/11/Sycamore-poster.jpg
END:VEVENT
BEGIN:VEVENT
DTSTART;TZID=UTC:20280119T180000
DTEND;TZID=UTC:20280119T200000
DTSTAMP:20260421T165012
CREATED:20250117T115713Z
LAST-MODIFIED:20250117T115713Z
UID:10001091-1831917600-1831924800@training.actondev9.com
SUMMARY:Sycamore
DESCRIPTION:Sycamore is an informal course about the Christian faith and its relevance for life today. It gives you space to meet other people\, share ideas\, explore your beliefs\, and think about questions that really matter. Each session involves a short film\, time for discussion and pizza. This course is for 18-35 year olds. \nWe meet in Mardyke House\, Cork\, T12W8RP\, each Wednesday from 6-8pm. Everyone is welcome. \nFor more information please email miriamdunne@presentationbrothers.org
URL:https://training.actondev9.com/event/sycamore-2-2-2/2028-01-19/
CATEGORIES:LEAF
ATTACH;FMTTYPE=image/jpeg:https://training.actondev9.com/wp-content/uploads/2024/11/Sycamore-poster.jpg
END:VEVENT
BEGIN:VEVENT
DTSTART;TZID=UTC:20280119T180000
DTEND;TZID=UTC:20280119T200000
DTSTAMP:20260421T165012
CREATED:20250117T115909Z
LAST-MODIFIED:20250117T120042Z
UID:10001350-1831917600-1831924800@training.actondev9.com
SUMMARY:Sycamore
DESCRIPTION:Sycamore is an informal course about the Christian faith and its relevance for life today. It gives you space to meet other people\, share ideas\, explore your beliefs\, and think about questions that really matter. Each session involves a short film\, time for discussion and pizza. This course is for 18-35 year olds. \nWe meet in Mardyke House\, Cork\, T12W8RP\, each Wednesday from 6-8pm. Everyone is welcome. \nFor more information please email miriamdunne@presentationbrothers.org
URL:https://training.actondev9.com/event/sycamore-2-2-2-2/2028-01-19/
CATEGORIES:LEAF
ATTACH;FMTTYPE=image/jpeg:https://training.actondev9.com/wp-content/uploads/2024/11/Sycamore-poster.jpg
END:VEVENT
BEGIN:VEVENT
DTSTART;TZID=UTC:20280126T180000
DTEND;TZID=UTC:20280126T200000
DTSTAMP:20260421T165012
CREATED:20250117T115713Z
LAST-MODIFIED:20250117T115713Z
UID:10001092-1832522400-1832529600@training.actondev9.com
SUMMARY:Sycamore
DESCRIPTION:Sycamore is an informal course about the Christian faith and its relevance for life today. It gives you space to meet other people\, share ideas\, explore your beliefs\, and think about questions that really matter. Each session involves a short film\, time for discussion and pizza. This course is for 18-35 year olds. \nWe meet in Mardyke House\, Cork\, T12W8RP\, each Wednesday from 6-8pm. Everyone is welcome. \nFor more information please email miriamdunne@presentationbrothers.org
URL:https://training.actondev9.com/event/sycamore-2-2-2/2028-01-26/
CATEGORIES:LEAF
ATTACH;FMTTYPE=image/jpeg:https://training.actondev9.com/wp-content/uploads/2024/11/Sycamore-poster.jpg
END:VEVENT
BEGIN:VEVENT
DTSTART;TZID=UTC:20280126T180000
DTEND;TZID=UTC:20280126T200000
DTSTAMP:20260421T165012
CREATED:20250117T115909Z
LAST-MODIFIED:20250117T120042Z
UID:10001351-1832522400-1832529600@training.actondev9.com
SUMMARY:Sycamore
DESCRIPTION:Sycamore is an informal course about the Christian faith and its relevance for life today. It gives you space to meet other people\, share ideas\, explore your beliefs\, and think about questions that really matter. Each session involves a short film\, time for discussion and pizza. This course is for 18-35 year olds. \nWe meet in Mardyke House\, Cork\, T12W8RP\, each Wednesday from 6-8pm. Everyone is welcome. \nFor more information please email miriamdunne@presentationbrothers.org
URL:https://training.actondev9.com/event/sycamore-2-2-2-2/2028-01-26/
CATEGORIES:LEAF
ATTACH;FMTTYPE=image/jpeg:https://training.actondev9.com/wp-content/uploads/2024/11/Sycamore-poster.jpg
END:VEVENT
END:VCALENDAR