BEGIN:VCALENDAR
VERSION:2.0
PRODID:-//Presentation Brothers - ECPv6.9.0//NONSGML v1.0//EN
CALSCALE:GREGORIAN
METHOD:PUBLISH
X-WR-CALNAME:Presentation Brothers
X-ORIGINAL-URL:https://training.actondev9.com
X-WR-CALDESC:Events for Presentation Brothers
REFRESH-INTERVAL;VALUE=DURATION:PT1H
X-Robots-Tag:noindex
X-PUBLISHED-TTL:PT1H
BEGIN:VTIMEZONE
TZID:UTC
BEGIN:STANDARD
TZOFFSETFROM:+0000
TZOFFSETTO:+0000
TZNAME:UTC
DTSTART:20280101T000000
END:STANDARD
END:VTIMEZONE
BEGIN:VEVENT
DTSTART;TZID=UTC:20280112T180000
DTEND;TZID=UTC:20280112T200000
DTSTAMP:20260421T194649
CREATED:20250117T115713Z
LAST-MODIFIED:20250117T115713Z
UID:10001090-1831312800-1831320000@training.actondev9.com
SUMMARY:Sycamore
DESCRIPTION:Sycamore is an informal course about the Christian faith and its relevance for life today. It gives you space to meet other people\, share ideas\, explore your beliefs\, and think about questions that really matter. Each session involves a short film\, time for discussion and pizza. This course is for 18-35 year olds. \nWe meet in Mardyke House\, Cork\, T12W8RP\, each Wednesday from 6-8pm. Everyone is welcome. \nFor more information please email miriamdunne@presentationbrothers.org
URL:https://training.actondev9.com/event/sycamore-2-2-2/2028-01-12/
CATEGORIES:LEAF
ATTACH;FMTTYPE=image/jpeg:https://training.actondev9.com/wp-content/uploads/2024/11/Sycamore-poster.jpg
END:VEVENT
BEGIN:VEVENT
DTSTART;TZID=UTC:20280112T180000
DTEND;TZID=UTC:20280112T200000
DTSTAMP:20260421T194649
CREATED:20250117T115909Z
LAST-MODIFIED:20250117T120042Z
UID:10001349-1831312800-1831320000@training.actondev9.com
SUMMARY:Sycamore
DESCRIPTION:Sycamore is an informal course about the Christian faith and its relevance for life today. It gives you space to meet other people\, share ideas\, explore your beliefs\, and think about questions that really matter. Each session involves a short film\, time for discussion and pizza. This course is for 18-35 year olds. \nWe meet in Mardyke House\, Cork\, T12W8RP\, each Wednesday from 6-8pm. Everyone is welcome. \nFor more information please email miriamdunne@presentationbrothers.org
URL:https://training.actondev9.com/event/sycamore-2-2-2-2/2028-01-12/
CATEGORIES:LEAF
ATTACH;FMTTYPE=image/jpeg:https://training.actondev9.com/wp-content/uploads/2024/11/Sycamore-poster.jpg
END:VEVENT
BEGIN:VEVENT
DTSTART;TZID=UTC:20280119T180000
DTEND;TZID=UTC:20280119T200000
DTSTAMP:20260421T194649
CREATED:20250117T115713Z
LAST-MODIFIED:20250117T115713Z
UID:10001091-1831917600-1831924800@training.actondev9.com
SUMMARY:Sycamore
DESCRIPTION:Sycamore is an informal course about the Christian faith and its relevance for life today. It gives you space to meet other people\, share ideas\, explore your beliefs\, and think about questions that really matter. Each session involves a short film\, time for discussion and pizza. This course is for 18-35 year olds. \nWe meet in Mardyke House\, Cork\, T12W8RP\, each Wednesday from 6-8pm. Everyone is welcome. \nFor more information please email miriamdunne@presentationbrothers.org
URL:https://training.actondev9.com/event/sycamore-2-2-2/2028-01-19/
CATEGORIES:LEAF
ATTACH;FMTTYPE=image/jpeg:https://training.actondev9.com/wp-content/uploads/2024/11/Sycamore-poster.jpg
END:VEVENT
BEGIN:VEVENT
DTSTART;TZID=UTC:20280119T180000
DTEND;TZID=UTC:20280119T200000
DTSTAMP:20260421T194649
CREATED:20250117T115909Z
LAST-MODIFIED:20250117T120042Z
UID:10001350-1831917600-1831924800@training.actondev9.com
SUMMARY:Sycamore
DESCRIPTION:Sycamore is an informal course about the Christian faith and its relevance for life today. It gives you space to meet other people\, share ideas\, explore your beliefs\, and think about questions that really matter. Each session involves a short film\, time for discussion and pizza. This course is for 18-35 year olds. \nWe meet in Mardyke House\, Cork\, T12W8RP\, each Wednesday from 6-8pm. Everyone is welcome. \nFor more information please email miriamdunne@presentationbrothers.org
URL:https://training.actondev9.com/event/sycamore-2-2-2-2/2028-01-19/
CATEGORIES:LEAF
ATTACH;FMTTYPE=image/jpeg:https://training.actondev9.com/wp-content/uploads/2024/11/Sycamore-poster.jpg
END:VEVENT
BEGIN:VEVENT
DTSTART;TZID=UTC:20280126T180000
DTEND;TZID=UTC:20280126T200000
DTSTAMP:20260421T194649
CREATED:20250117T115713Z
LAST-MODIFIED:20250117T115713Z
UID:10001092-1832522400-1832529600@training.actondev9.com
SUMMARY:Sycamore
DESCRIPTION:Sycamore is an informal course about the Christian faith and its relevance for life today. It gives you space to meet other people\, share ideas\, explore your beliefs\, and think about questions that really matter. Each session involves a short film\, time for discussion and pizza. This course is for 18-35 year olds. \nWe meet in Mardyke House\, Cork\, T12W8RP\, each Wednesday from 6-8pm. Everyone is welcome. \nFor more information please email miriamdunne@presentationbrothers.org
URL:https://training.actondev9.com/event/sycamore-2-2-2/2028-01-26/
CATEGORIES:LEAF
ATTACH;FMTTYPE=image/jpeg:https://training.actondev9.com/wp-content/uploads/2024/11/Sycamore-poster.jpg
END:VEVENT
BEGIN:VEVENT
DTSTART;TZID=UTC:20280126T180000
DTEND;TZID=UTC:20280126T200000
DTSTAMP:20260421T194649
CREATED:20250117T115909Z
LAST-MODIFIED:20250117T120042Z
UID:10001351-1832522400-1832529600@training.actondev9.com
SUMMARY:Sycamore
DESCRIPTION:Sycamore is an informal course about the Christian faith and its relevance for life today. It gives you space to meet other people\, share ideas\, explore your beliefs\, and think about questions that really matter. Each session involves a short film\, time for discussion and pizza. This course is for 18-35 year olds. \nWe meet in Mardyke House\, Cork\, T12W8RP\, each Wednesday from 6-8pm. Everyone is welcome. \nFor more information please email miriamdunne@presentationbrothers.org
URL:https://training.actondev9.com/event/sycamore-2-2-2-2/2028-01-26/
CATEGORIES:LEAF
ATTACH;FMTTYPE=image/jpeg:https://training.actondev9.com/wp-content/uploads/2024/11/Sycamore-poster.jpg
END:VEVENT
BEGIN:VEVENT
DTSTART;TZID=UTC:20280202T180000
DTEND;TZID=UTC:20280202T200000
DTSTAMP:20260421T194649
CREATED:20250117T115713Z
LAST-MODIFIED:20250117T115713Z
UID:10001093-1833127200-1833134400@training.actondev9.com
SUMMARY:Sycamore
DESCRIPTION:Sycamore is an informal course about the Christian faith and its relevance for life today. It gives you space to meet other people\, share ideas\, explore your beliefs\, and think about questions that really matter. Each session involves a short film\, time for discussion and pizza. This course is for 18-35 year olds. \nWe meet in Mardyke House\, Cork\, T12W8RP\, each Wednesday from 6-8pm. Everyone is welcome. \nFor more information please email miriamdunne@presentationbrothers.org
URL:https://training.actondev9.com/event/sycamore-2-2-2/2028-02-02/
CATEGORIES:LEAF
ATTACH;FMTTYPE=image/jpeg:https://training.actondev9.com/wp-content/uploads/2024/11/Sycamore-poster.jpg
END:VEVENT
BEGIN:VEVENT
DTSTART;TZID=UTC:20280202T180000
DTEND;TZID=UTC:20280202T200000
DTSTAMP:20260421T194649
CREATED:20250117T115909Z
LAST-MODIFIED:20250117T120042Z
UID:10001352-1833127200-1833134400@training.actondev9.com
SUMMARY:Sycamore
DESCRIPTION:Sycamore is an informal course about the Christian faith and its relevance for life today. It gives you space to meet other people\, share ideas\, explore your beliefs\, and think about questions that really matter. Each session involves a short film\, time for discussion and pizza. This course is for 18-35 year olds. \nWe meet in Mardyke House\, Cork\, T12W8RP\, each Wednesday from 6-8pm. Everyone is welcome. \nFor more information please email miriamdunne@presentationbrothers.org
URL:https://training.actondev9.com/event/sycamore-2-2-2-2/2028-02-02/
CATEGORIES:LEAF
ATTACH;FMTTYPE=image/jpeg:https://training.actondev9.com/wp-content/uploads/2024/11/Sycamore-poster.jpg
END:VEVENT
BEGIN:VEVENT
DTSTART;TZID=UTC:20280209T180000
DTEND;TZID=UTC:20280209T200000
DTSTAMP:20260421T194649
CREATED:20250117T115713Z
LAST-MODIFIED:20250117T115713Z
UID:10001094-1833732000-1833739200@training.actondev9.com
SUMMARY:Sycamore
DESCRIPTION:Sycamore is an informal course about the Christian faith and its relevance for life today. It gives you space to meet other people\, share ideas\, explore your beliefs\, and think about questions that really matter. Each session involves a short film\, time for discussion and pizza. This course is for 18-35 year olds. \nWe meet in Mardyke House\, Cork\, T12W8RP\, each Wednesday from 6-8pm. Everyone is welcome. \nFor more information please email miriamdunne@presentationbrothers.org
URL:https://training.actondev9.com/event/sycamore-2-2-2/2028-02-09/
CATEGORIES:LEAF
ATTACH;FMTTYPE=image/jpeg:https://training.actondev9.com/wp-content/uploads/2024/11/Sycamore-poster.jpg
END:VEVENT
BEGIN:VEVENT
DTSTART;TZID=UTC:20280209T180000
DTEND;TZID=UTC:20280209T200000
DTSTAMP:20260421T194649
CREATED:20250117T115909Z
LAST-MODIFIED:20250117T120042Z
UID:10001353-1833732000-1833739200@training.actondev9.com
SUMMARY:Sycamore
DESCRIPTION:Sycamore is an informal course about the Christian faith and its relevance for life today. It gives you space to meet other people\, share ideas\, explore your beliefs\, and think about questions that really matter. Each session involves a short film\, time for discussion and pizza. This course is for 18-35 year olds. \nWe meet in Mardyke House\, Cork\, T12W8RP\, each Wednesday from 6-8pm. Everyone is welcome. \nFor more information please email miriamdunne@presentationbrothers.org
URL:https://training.actondev9.com/event/sycamore-2-2-2-2/2028-02-09/
CATEGORIES:LEAF
ATTACH;FMTTYPE=image/jpeg:https://training.actondev9.com/wp-content/uploads/2024/11/Sycamore-poster.jpg
END:VEVENT
BEGIN:VEVENT
DTSTART;TZID=UTC:20280216T180000
DTEND;TZID=UTC:20280216T200000
DTSTAMP:20260421T194649
CREATED:20250117T115713Z
LAST-MODIFIED:20250117T115713Z
UID:10001095-1834336800-1834344000@training.actondev9.com
SUMMARY:Sycamore
DESCRIPTION:Sycamore is an informal course about the Christian faith and its relevance for life today. It gives you space to meet other people\, share ideas\, explore your beliefs\, and think about questions that really matter. Each session involves a short film\, time for discussion and pizza. This course is for 18-35 year olds. \nWe meet in Mardyke House\, Cork\, T12W8RP\, each Wednesday from 6-8pm. Everyone is welcome. \nFor more information please email miriamdunne@presentationbrothers.org
URL:https://training.actondev9.com/event/sycamore-2-2-2/2028-02-16/
CATEGORIES:LEAF
ATTACH;FMTTYPE=image/jpeg:https://training.actondev9.com/wp-content/uploads/2024/11/Sycamore-poster.jpg
END:VEVENT
BEGIN:VEVENT
DTSTART;TZID=UTC:20280216T180000
DTEND;TZID=UTC:20280216T200000
DTSTAMP:20260421T194649
CREATED:20250117T115909Z
LAST-MODIFIED:20250117T120042Z
UID:10001354-1834336800-1834344000@training.actondev9.com
SUMMARY:Sycamore
DESCRIPTION:Sycamore is an informal course about the Christian faith and its relevance for life today. It gives you space to meet other people\, share ideas\, explore your beliefs\, and think about questions that really matter. Each session involves a short film\, time for discussion and pizza. This course is for 18-35 year olds. \nWe meet in Mardyke House\, Cork\, T12W8RP\, each Wednesday from 6-8pm. Everyone is welcome. \nFor more information please email miriamdunne@presentationbrothers.org
URL:https://training.actondev9.com/event/sycamore-2-2-2-2/2028-02-16/
CATEGORIES:LEAF
ATTACH;FMTTYPE=image/jpeg:https://training.actondev9.com/wp-content/uploads/2024/11/Sycamore-poster.jpg
END:VEVENT
BEGIN:VEVENT
DTSTART;TZID=UTC:20280223T180000
DTEND;TZID=UTC:20280223T200000
DTSTAMP:20260421T194649
CREATED:20250117T115713Z
LAST-MODIFIED:20250117T115713Z
UID:10001096-1834941600-1834948800@training.actondev9.com
SUMMARY:Sycamore
DESCRIPTION:Sycamore is an informal course about the Christian faith and its relevance for life today. It gives you space to meet other people\, share ideas\, explore your beliefs\, and think about questions that really matter. Each session involves a short film\, time for discussion and pizza. This course is for 18-35 year olds. \nWe meet in Mardyke House\, Cork\, T12W8RP\, each Wednesday from 6-8pm. Everyone is welcome. \nFor more information please email miriamdunne@presentationbrothers.org
URL:https://training.actondev9.com/event/sycamore-2-2-2/2028-02-23/
CATEGORIES:LEAF
ATTACH;FMTTYPE=image/jpeg:https://training.actondev9.com/wp-content/uploads/2024/11/Sycamore-poster.jpg
END:VEVENT
BEGIN:VEVENT
DTSTART;TZID=UTC:20280223T180000
DTEND;TZID=UTC:20280223T200000
DTSTAMP:20260421T194649
CREATED:20250117T115909Z
LAST-MODIFIED:20250117T120042Z
UID:10001355-1834941600-1834948800@training.actondev9.com
SUMMARY:Sycamore
DESCRIPTION:Sycamore is an informal course about the Christian faith and its relevance for life today. It gives you space to meet other people\, share ideas\, explore your beliefs\, and think about questions that really matter. Each session involves a short film\, time for discussion and pizza. This course is for 18-35 year olds. \nWe meet in Mardyke House\, Cork\, T12W8RP\, each Wednesday from 6-8pm. Everyone is welcome. \nFor more information please email miriamdunne@presentationbrothers.org
URL:https://training.actondev9.com/event/sycamore-2-2-2-2/2028-02-23/
CATEGORIES:LEAF
ATTACH;FMTTYPE=image/jpeg:https://training.actondev9.com/wp-content/uploads/2024/11/Sycamore-poster.jpg
END:VEVENT
BEGIN:VEVENT
DTSTART;TZID=UTC:20280301T180000
DTEND;TZID=UTC:20280301T200000
DTSTAMP:20260421T194649
CREATED:20250117T115713Z
LAST-MODIFIED:20250117T115713Z
UID:10001097-1835546400-1835553600@training.actondev9.com
SUMMARY:Sycamore
DESCRIPTION:Sycamore is an informal course about the Christian faith and its relevance for life today. It gives you space to meet other people\, share ideas\, explore your beliefs\, and think about questions that really matter. Each session involves a short film\, time for discussion and pizza. This course is for 18-35 year olds. \nWe meet in Mardyke House\, Cork\, T12W8RP\, each Wednesday from 6-8pm. Everyone is welcome. \nFor more information please email miriamdunne@presentationbrothers.org
URL:https://training.actondev9.com/event/sycamore-2-2-2/2028-03-01/
CATEGORIES:LEAF
ATTACH;FMTTYPE=image/jpeg:https://training.actondev9.com/wp-content/uploads/2024/11/Sycamore-poster.jpg
END:VEVENT
BEGIN:VEVENT
DTSTART;TZID=UTC:20280301T180000
DTEND;TZID=UTC:20280301T200000
DTSTAMP:20260421T194649
CREATED:20250117T115909Z
LAST-MODIFIED:20250117T120042Z
UID:10001356-1835546400-1835553600@training.actondev9.com
SUMMARY:Sycamore
DESCRIPTION:Sycamore is an informal course about the Christian faith and its relevance for life today. It gives you space to meet other people\, share ideas\, explore your beliefs\, and think about questions that really matter. Each session involves a short film\, time for discussion and pizza. This course is for 18-35 year olds. \nWe meet in Mardyke House\, Cork\, T12W8RP\, each Wednesday from 6-8pm. Everyone is welcome. \nFor more information please email miriamdunne@presentationbrothers.org
URL:https://training.actondev9.com/event/sycamore-2-2-2-2/2028-03-01/
CATEGORIES:LEAF
ATTACH;FMTTYPE=image/jpeg:https://training.actondev9.com/wp-content/uploads/2024/11/Sycamore-poster.jpg
END:VEVENT
BEGIN:VEVENT
DTSTART;TZID=UTC:20280308T180000
DTEND;TZID=UTC:20280308T200000
DTSTAMP:20260421T194649
CREATED:20250117T115713Z
LAST-MODIFIED:20250117T115713Z
UID:10001098-1836151200-1836158400@training.actondev9.com
SUMMARY:Sycamore
DESCRIPTION:Sycamore is an informal course about the Christian faith and its relevance for life today. It gives you space to meet other people\, share ideas\, explore your beliefs\, and think about questions that really matter. Each session involves a short film\, time for discussion and pizza. This course is for 18-35 year olds. \nWe meet in Mardyke House\, Cork\, T12W8RP\, each Wednesday from 6-8pm. Everyone is welcome. \nFor more information please email miriamdunne@presentationbrothers.org
URL:https://training.actondev9.com/event/sycamore-2-2-2/2028-03-08/
CATEGORIES:LEAF
ATTACH;FMTTYPE=image/jpeg:https://training.actondev9.com/wp-content/uploads/2024/11/Sycamore-poster.jpg
END:VEVENT
BEGIN:VEVENT
DTSTART;TZID=UTC:20280308T180000
DTEND;TZID=UTC:20280308T200000
DTSTAMP:20260421T194649
CREATED:20250117T115909Z
LAST-MODIFIED:20250117T120042Z
UID:10001357-1836151200-1836158400@training.actondev9.com
SUMMARY:Sycamore
DESCRIPTION:Sycamore is an informal course about the Christian faith and its relevance for life today. It gives you space to meet other people\, share ideas\, explore your beliefs\, and think about questions that really matter. Each session involves a short film\, time for discussion and pizza. This course is for 18-35 year olds. \nWe meet in Mardyke House\, Cork\, T12W8RP\, each Wednesday from 6-8pm. Everyone is welcome. \nFor more information please email miriamdunne@presentationbrothers.org
URL:https://training.actondev9.com/event/sycamore-2-2-2-2/2028-03-08/
CATEGORIES:LEAF
ATTACH;FMTTYPE=image/jpeg:https://training.actondev9.com/wp-content/uploads/2024/11/Sycamore-poster.jpg
END:VEVENT
BEGIN:VEVENT
DTSTART;TZID=UTC:20280315T180000
DTEND;TZID=UTC:20280315T200000
DTSTAMP:20260421T194649
CREATED:20250117T115713Z
LAST-MODIFIED:20250117T115713Z
UID:10001099-1836756000-1836763200@training.actondev9.com
SUMMARY:Sycamore
DESCRIPTION:Sycamore is an informal course about the Christian faith and its relevance for life today. It gives you space to meet other people\, share ideas\, explore your beliefs\, and think about questions that really matter. Each session involves a short film\, time for discussion and pizza. This course is for 18-35 year olds. \nWe meet in Mardyke House\, Cork\, T12W8RP\, each Wednesday from 6-8pm. Everyone is welcome. \nFor more information please email miriamdunne@presentationbrothers.org
URL:https://training.actondev9.com/event/sycamore-2-2-2/2028-03-15/
CATEGORIES:LEAF
ATTACH;FMTTYPE=image/jpeg:https://training.actondev9.com/wp-content/uploads/2024/11/Sycamore-poster.jpg
END:VEVENT
BEGIN:VEVENT
DTSTART;TZID=UTC:20280315T180000
DTEND;TZID=UTC:20280315T200000
DTSTAMP:20260421T194649
CREATED:20250117T115909Z
LAST-MODIFIED:20250117T120042Z
UID:10001358-1836756000-1836763200@training.actondev9.com
SUMMARY:Sycamore
DESCRIPTION:Sycamore is an informal course about the Christian faith and its relevance for life today. It gives you space to meet other people\, share ideas\, explore your beliefs\, and think about questions that really matter. Each session involves a short film\, time for discussion and pizza. This course is for 18-35 year olds. \nWe meet in Mardyke House\, Cork\, T12W8RP\, each Wednesday from 6-8pm. Everyone is welcome. \nFor more information please email miriamdunne@presentationbrothers.org
URL:https://training.actondev9.com/event/sycamore-2-2-2-2/2028-03-15/
CATEGORIES:LEAF
ATTACH;FMTTYPE=image/jpeg:https://training.actondev9.com/wp-content/uploads/2024/11/Sycamore-poster.jpg
END:VEVENT
BEGIN:VEVENT
DTSTART;TZID=UTC:20280322T180000
DTEND;TZID=UTC:20280322T200000
DTSTAMP:20260421T194649
CREATED:20250117T115713Z
LAST-MODIFIED:20250117T115713Z
UID:10001100-1837360800-1837368000@training.actondev9.com
SUMMARY:Sycamore
DESCRIPTION:Sycamore is an informal course about the Christian faith and its relevance for life today. It gives you space to meet other people\, share ideas\, explore your beliefs\, and think about questions that really matter. Each session involves a short film\, time for discussion and pizza. This course is for 18-35 year olds. \nWe meet in Mardyke House\, Cork\, T12W8RP\, each Wednesday from 6-8pm. Everyone is welcome. \nFor more information please email miriamdunne@presentationbrothers.org
URL:https://training.actondev9.com/event/sycamore-2-2-2/2028-03-22/
CATEGORIES:LEAF
ATTACH;FMTTYPE=image/jpeg:https://training.actondev9.com/wp-content/uploads/2024/11/Sycamore-poster.jpg
END:VEVENT
BEGIN:VEVENT
DTSTART;TZID=UTC:20280322T180000
DTEND;TZID=UTC:20280322T200000
DTSTAMP:20260421T194649
CREATED:20250117T115909Z
LAST-MODIFIED:20250117T120042Z
UID:10001359-1837360800-1837368000@training.actondev9.com
SUMMARY:Sycamore
DESCRIPTION:Sycamore is an informal course about the Christian faith and its relevance for life today. It gives you space to meet other people\, share ideas\, explore your beliefs\, and think about questions that really matter. Each session involves a short film\, time for discussion and pizza. This course is for 18-35 year olds. \nWe meet in Mardyke House\, Cork\, T12W8RP\, each Wednesday from 6-8pm. Everyone is welcome. \nFor more information please email miriamdunne@presentationbrothers.org
URL:https://training.actondev9.com/event/sycamore-2-2-2-2/2028-03-22/
CATEGORIES:LEAF
ATTACH;FMTTYPE=image/jpeg:https://training.actondev9.com/wp-content/uploads/2024/11/Sycamore-poster.jpg
END:VEVENT
BEGIN:VEVENT
DTSTART;TZID=UTC:20280329T180000
DTEND;TZID=UTC:20280329T200000
DTSTAMP:20260421T194649
CREATED:20250117T115713Z
LAST-MODIFIED:20250117T115713Z
UID:10001101-1837965600-1837972800@training.actondev9.com
SUMMARY:Sycamore
DESCRIPTION:Sycamore is an informal course about the Christian faith and its relevance for life today. It gives you space to meet other people\, share ideas\, explore your beliefs\, and think about questions that really matter. Each session involves a short film\, time for discussion and pizza. This course is for 18-35 year olds. \nWe meet in Mardyke House\, Cork\, T12W8RP\, each Wednesday from 6-8pm. Everyone is welcome. \nFor more information please email miriamdunne@presentationbrothers.org
URL:https://training.actondev9.com/event/sycamore-2-2-2/2028-03-29/
CATEGORIES:LEAF
ATTACH;FMTTYPE=image/jpeg:https://training.actondev9.com/wp-content/uploads/2024/11/Sycamore-poster.jpg
END:VEVENT
BEGIN:VEVENT
DTSTART;TZID=UTC:20280329T180000
DTEND;TZID=UTC:20280329T200000
DTSTAMP:20260421T194649
CREATED:20250117T115909Z
LAST-MODIFIED:20250117T120042Z
UID:10001360-1837965600-1837972800@training.actondev9.com
SUMMARY:Sycamore
DESCRIPTION:Sycamore is an informal course about the Christian faith and its relevance for life today. It gives you space to meet other people\, share ideas\, explore your beliefs\, and think about questions that really matter. Each session involves a short film\, time for discussion and pizza. This course is for 18-35 year olds. \nWe meet in Mardyke House\, Cork\, T12W8RP\, each Wednesday from 6-8pm. Everyone is welcome. \nFor more information please email miriamdunne@presentationbrothers.org
URL:https://training.actondev9.com/event/sycamore-2-2-2-2/2028-03-29/
CATEGORIES:LEAF
ATTACH;FMTTYPE=image/jpeg:https://training.actondev9.com/wp-content/uploads/2024/11/Sycamore-poster.jpg
END:VEVENT
BEGIN:VEVENT
DTSTART;TZID=UTC:20280405T180000
DTEND;TZID=UTC:20280405T200000
DTSTAMP:20260421T194649
CREATED:20250117T115713Z
LAST-MODIFIED:20250117T115713Z
UID:10001102-1838570400-1838577600@training.actondev9.com
SUMMARY:Sycamore
DESCRIPTION:Sycamore is an informal course about the Christian faith and its relevance for life today. It gives you space to meet other people\, share ideas\, explore your beliefs\, and think about questions that really matter. Each session involves a short film\, time for discussion and pizza. This course is for 18-35 year olds. \nWe meet in Mardyke House\, Cork\, T12W8RP\, each Wednesday from 6-8pm. Everyone is welcome. \nFor more information please email miriamdunne@presentationbrothers.org
URL:https://training.actondev9.com/event/sycamore-2-2-2/2028-04-05/
CATEGORIES:LEAF
ATTACH;FMTTYPE=image/jpeg:https://training.actondev9.com/wp-content/uploads/2024/11/Sycamore-poster.jpg
END:VEVENT
BEGIN:VEVENT
DTSTART;TZID=UTC:20280405T180000
DTEND;TZID=UTC:20280405T200000
DTSTAMP:20260421T194649
CREATED:20250117T115909Z
LAST-MODIFIED:20250117T120042Z
UID:10001361-1838570400-1838577600@training.actondev9.com
SUMMARY:Sycamore
DESCRIPTION:Sycamore is an informal course about the Christian faith and its relevance for life today. It gives you space to meet other people\, share ideas\, explore your beliefs\, and think about questions that really matter. Each session involves a short film\, time for discussion and pizza. This course is for 18-35 year olds. \nWe meet in Mardyke House\, Cork\, T12W8RP\, each Wednesday from 6-8pm. Everyone is welcome. \nFor more information please email miriamdunne@presentationbrothers.org
URL:https://training.actondev9.com/event/sycamore-2-2-2-2/2028-04-05/
CATEGORIES:LEAF
ATTACH;FMTTYPE=image/jpeg:https://training.actondev9.com/wp-content/uploads/2024/11/Sycamore-poster.jpg
END:VEVENT
BEGIN:VEVENT
DTSTART;TZID=UTC:20280412T180000
DTEND;TZID=UTC:20280412T200000
DTSTAMP:20260421T194649
CREATED:20250117T115713Z
LAST-MODIFIED:20250117T115713Z
UID:10001103-1839175200-1839182400@training.actondev9.com
SUMMARY:Sycamore
DESCRIPTION:Sycamore is an informal course about the Christian faith and its relevance for life today. It gives you space to meet other people\, share ideas\, explore your beliefs\, and think about questions that really matter. Each session involves a short film\, time for discussion and pizza. This course is for 18-35 year olds. \nWe meet in Mardyke House\, Cork\, T12W8RP\, each Wednesday from 6-8pm. Everyone is welcome. \nFor more information please email miriamdunne@presentationbrothers.org
URL:https://training.actondev9.com/event/sycamore-2-2-2/2028-04-12/
CATEGORIES:LEAF
ATTACH;FMTTYPE=image/jpeg:https://training.actondev9.com/wp-content/uploads/2024/11/Sycamore-poster.jpg
END:VEVENT
BEGIN:VEVENT
DTSTART;TZID=UTC:20280412T180000
DTEND;TZID=UTC:20280412T200000
DTSTAMP:20260421T194649
CREATED:20250117T115909Z
LAST-MODIFIED:20250117T120042Z
UID:10001362-1839175200-1839182400@training.actondev9.com
SUMMARY:Sycamore
DESCRIPTION:Sycamore is an informal course about the Christian faith and its relevance for life today. It gives you space to meet other people\, share ideas\, explore your beliefs\, and think about questions that really matter. Each session involves a short film\, time for discussion and pizza. This course is for 18-35 year olds. \nWe meet in Mardyke House\, Cork\, T12W8RP\, each Wednesday from 6-8pm. Everyone is welcome. \nFor more information please email miriamdunne@presentationbrothers.org
URL:https://training.actondev9.com/event/sycamore-2-2-2-2/2028-04-12/
CATEGORIES:LEAF
ATTACH;FMTTYPE=image/jpeg:https://training.actondev9.com/wp-content/uploads/2024/11/Sycamore-poster.jpg
END:VEVENT
BEGIN:VEVENT
DTSTART;TZID=UTC:20280419T180000
DTEND;TZID=UTC:20280419T200000
DTSTAMP:20260421T194649
CREATED:20250117T115713Z
LAST-MODIFIED:20250117T115713Z
UID:10001104-1839780000-1839787200@training.actondev9.com
SUMMARY:Sycamore
DESCRIPTION:Sycamore is an informal course about the Christian faith and its relevance for life today. It gives you space to meet other people\, share ideas\, explore your beliefs\, and think about questions that really matter. Each session involves a short film\, time for discussion and pizza. This course is for 18-35 year olds. \nWe meet in Mardyke House\, Cork\, T12W8RP\, each Wednesday from 6-8pm. Everyone is welcome. \nFor more information please email miriamdunne@presentationbrothers.org
URL:https://training.actondev9.com/event/sycamore-2-2-2/2028-04-19/
CATEGORIES:LEAF
ATTACH;FMTTYPE=image/jpeg:https://training.actondev9.com/wp-content/uploads/2024/11/Sycamore-poster.jpg
END:VEVENT
BEGIN:VEVENT
DTSTART;TZID=UTC:20280419T180000
DTEND;TZID=UTC:20280419T200000
DTSTAMP:20260421T194649
CREATED:20250117T115909Z
LAST-MODIFIED:20250117T120042Z
UID:10001363-1839780000-1839787200@training.actondev9.com
SUMMARY:Sycamore
DESCRIPTION:Sycamore is an informal course about the Christian faith and its relevance for life today. It gives you space to meet other people\, share ideas\, explore your beliefs\, and think about questions that really matter. Each session involves a short film\, time for discussion and pizza. This course is for 18-35 year olds. \nWe meet in Mardyke House\, Cork\, T12W8RP\, each Wednesday from 6-8pm. Everyone is welcome. \nFor more information please email miriamdunne@presentationbrothers.org
URL:https://training.actondev9.com/event/sycamore-2-2-2-2/2028-04-19/
CATEGORIES:LEAF
ATTACH;FMTTYPE=image/jpeg:https://training.actondev9.com/wp-content/uploads/2024/11/Sycamore-poster.jpg
END:VEVENT
END:VCALENDAR