BEGIN:VCALENDAR
VERSION:2.0
PRODID:-//Presentation Brothers - ECPv6.9.0//NONSGML v1.0//EN
CALSCALE:GREGORIAN
METHOD:PUBLISH
X-WR-CALNAME:Presentation Brothers
X-ORIGINAL-URL:https://training.actondev9.com
X-WR-CALDESC:Events for Presentation Brothers
REFRESH-INTERVAL;VALUE=DURATION:PT1H
X-Robots-Tag:noindex
X-PUBLISHED-TTL:PT1H
BEGIN:VTIMEZONE
TZID:UTC
BEGIN:STANDARD
TZOFFSETFROM:+0000
TZOFFSETTO:+0000
TZNAME:UTC
DTSTART:20280101T000000
END:STANDARD
END:VTIMEZONE
BEGIN:VEVENT
DTSTART;TZID=UTC:20280628T180000
DTEND;TZID=UTC:20280628T200000
DTSTAMP:20260422T015032
CREATED:20250117T115713Z
LAST-MODIFIED:20250117T115713Z
UID:10001114-1845828000-1845835200@training.actondev9.com
SUMMARY:Sycamore
DESCRIPTION:Sycamore is an informal course about the Christian faith and its relevance for life today. It gives you space to meet other people\, share ideas\, explore your beliefs\, and think about questions that really matter. Each session involves a short film\, time for discussion and pizza. This course is for 18-35 year olds. \nWe meet in Mardyke House\, Cork\, T12W8RP\, each Wednesday from 6-8pm. Everyone is welcome. \nFor more information please email miriamdunne@presentationbrothers.org
URL:https://training.actondev9.com/event/sycamore-2-2-2/2028-06-28/
CATEGORIES:LEAF
ATTACH;FMTTYPE=image/jpeg:https://training.actondev9.com/wp-content/uploads/2024/11/Sycamore-poster.jpg
END:VEVENT
BEGIN:VEVENT
DTSTART;TZID=UTC:20280628T180000
DTEND;TZID=UTC:20280628T200000
DTSTAMP:20260422T015032
CREATED:20250117T115909Z
LAST-MODIFIED:20250117T120042Z
UID:10001373-1845828000-1845835200@training.actondev9.com
SUMMARY:Sycamore
DESCRIPTION:Sycamore is an informal course about the Christian faith and its relevance for life today. It gives you space to meet other people\, share ideas\, explore your beliefs\, and think about questions that really matter. Each session involves a short film\, time for discussion and pizza. This course is for 18-35 year olds. \nWe meet in Mardyke House\, Cork\, T12W8RP\, each Wednesday from 6-8pm. Everyone is welcome. \nFor more information please email miriamdunne@presentationbrothers.org
URL:https://training.actondev9.com/event/sycamore-2-2-2-2/2028-06-28/
CATEGORIES:LEAF
ATTACH;FMTTYPE=image/jpeg:https://training.actondev9.com/wp-content/uploads/2024/11/Sycamore-poster.jpg
END:VEVENT
BEGIN:VEVENT
DTSTART;TZID=UTC:20280705T180000
DTEND;TZID=UTC:20280705T200000
DTSTAMP:20260422T015032
CREATED:20250117T115713Z
LAST-MODIFIED:20250117T115713Z
UID:10001115-1846432800-1846440000@training.actondev9.com
SUMMARY:Sycamore
DESCRIPTION:Sycamore is an informal course about the Christian faith and its relevance for life today. It gives you space to meet other people\, share ideas\, explore your beliefs\, and think about questions that really matter. Each session involves a short film\, time for discussion and pizza. This course is for 18-35 year olds. \nWe meet in Mardyke House\, Cork\, T12W8RP\, each Wednesday from 6-8pm. Everyone is welcome. \nFor more information please email miriamdunne@presentationbrothers.org
URL:https://training.actondev9.com/event/sycamore-2-2-2/2028-07-05/
CATEGORIES:LEAF
ATTACH;FMTTYPE=image/jpeg:https://training.actondev9.com/wp-content/uploads/2024/11/Sycamore-poster.jpg
END:VEVENT
BEGIN:VEVENT
DTSTART;TZID=UTC:20280705T180000
DTEND;TZID=UTC:20280705T200000
DTSTAMP:20260422T015032
CREATED:20250117T115909Z
LAST-MODIFIED:20250117T120042Z
UID:10001374-1846432800-1846440000@training.actondev9.com
SUMMARY:Sycamore
DESCRIPTION:Sycamore is an informal course about the Christian faith and its relevance for life today. It gives you space to meet other people\, share ideas\, explore your beliefs\, and think about questions that really matter. Each session involves a short film\, time for discussion and pizza. This course is for 18-35 year olds. \nWe meet in Mardyke House\, Cork\, T12W8RP\, each Wednesday from 6-8pm. Everyone is welcome. \nFor more information please email miriamdunne@presentationbrothers.org
URL:https://training.actondev9.com/event/sycamore-2-2-2-2/2028-07-05/
CATEGORIES:LEAF
ATTACH;FMTTYPE=image/jpeg:https://training.actondev9.com/wp-content/uploads/2024/11/Sycamore-poster.jpg
END:VEVENT
BEGIN:VEVENT
DTSTART;TZID=UTC:20280712T180000
DTEND;TZID=UTC:20280712T200000
DTSTAMP:20260422T015032
CREATED:20250117T115713Z
LAST-MODIFIED:20250117T115713Z
UID:10001116-1847037600-1847044800@training.actondev9.com
SUMMARY:Sycamore
DESCRIPTION:Sycamore is an informal course about the Christian faith and its relevance for life today. It gives you space to meet other people\, share ideas\, explore your beliefs\, and think about questions that really matter. Each session involves a short film\, time for discussion and pizza. This course is for 18-35 year olds. \nWe meet in Mardyke House\, Cork\, T12W8RP\, each Wednesday from 6-8pm. Everyone is welcome. \nFor more information please email miriamdunne@presentationbrothers.org
URL:https://training.actondev9.com/event/sycamore-2-2-2/2028-07-12/
CATEGORIES:LEAF
ATTACH;FMTTYPE=image/jpeg:https://training.actondev9.com/wp-content/uploads/2024/11/Sycamore-poster.jpg
END:VEVENT
BEGIN:VEVENT
DTSTART;TZID=UTC:20280712T180000
DTEND;TZID=UTC:20280712T200000
DTSTAMP:20260422T015032
CREATED:20250117T115909Z
LAST-MODIFIED:20250117T120042Z
UID:10001375-1847037600-1847044800@training.actondev9.com
SUMMARY:Sycamore
DESCRIPTION:Sycamore is an informal course about the Christian faith and its relevance for life today. It gives you space to meet other people\, share ideas\, explore your beliefs\, and think about questions that really matter. Each session involves a short film\, time for discussion and pizza. This course is for 18-35 year olds. \nWe meet in Mardyke House\, Cork\, T12W8RP\, each Wednesday from 6-8pm. Everyone is welcome. \nFor more information please email miriamdunne@presentationbrothers.org
URL:https://training.actondev9.com/event/sycamore-2-2-2-2/2028-07-12/
CATEGORIES:LEAF
ATTACH;FMTTYPE=image/jpeg:https://training.actondev9.com/wp-content/uploads/2024/11/Sycamore-poster.jpg
END:VEVENT
BEGIN:VEVENT
DTSTART;TZID=UTC:20280719T180000
DTEND;TZID=UTC:20280719T200000
DTSTAMP:20260422T015032
CREATED:20250117T115713Z
LAST-MODIFIED:20250117T115713Z
UID:10001117-1847642400-1847649600@training.actondev9.com
SUMMARY:Sycamore
DESCRIPTION:Sycamore is an informal course about the Christian faith and its relevance for life today. It gives you space to meet other people\, share ideas\, explore your beliefs\, and think about questions that really matter. Each session involves a short film\, time for discussion and pizza. This course is for 18-35 year olds. \nWe meet in Mardyke House\, Cork\, T12W8RP\, each Wednesday from 6-8pm. Everyone is welcome. \nFor more information please email miriamdunne@presentationbrothers.org
URL:https://training.actondev9.com/event/sycamore-2-2-2/2028-07-19/
CATEGORIES:LEAF
ATTACH;FMTTYPE=image/jpeg:https://training.actondev9.com/wp-content/uploads/2024/11/Sycamore-poster.jpg
END:VEVENT
BEGIN:VEVENT
DTSTART;TZID=UTC:20280719T180000
DTEND;TZID=UTC:20280719T200000
DTSTAMP:20260422T015032
CREATED:20250117T115909Z
LAST-MODIFIED:20250117T120042Z
UID:10001376-1847642400-1847649600@training.actondev9.com
SUMMARY:Sycamore
DESCRIPTION:Sycamore is an informal course about the Christian faith and its relevance for life today. It gives you space to meet other people\, share ideas\, explore your beliefs\, and think about questions that really matter. Each session involves a short film\, time for discussion and pizza. This course is for 18-35 year olds. \nWe meet in Mardyke House\, Cork\, T12W8RP\, each Wednesday from 6-8pm. Everyone is welcome. \nFor more information please email miriamdunne@presentationbrothers.org
URL:https://training.actondev9.com/event/sycamore-2-2-2-2/2028-07-19/
CATEGORIES:LEAF
ATTACH;FMTTYPE=image/jpeg:https://training.actondev9.com/wp-content/uploads/2024/11/Sycamore-poster.jpg
END:VEVENT
BEGIN:VEVENT
DTSTART;TZID=UTC:20280726T180000
DTEND;TZID=UTC:20280726T200000
DTSTAMP:20260422T015032
CREATED:20250117T115713Z
LAST-MODIFIED:20250117T115713Z
UID:10001118-1848247200-1848254400@training.actondev9.com
SUMMARY:Sycamore
DESCRIPTION:Sycamore is an informal course about the Christian faith and its relevance for life today. It gives you space to meet other people\, share ideas\, explore your beliefs\, and think about questions that really matter. Each session involves a short film\, time for discussion and pizza. This course is for 18-35 year olds. \nWe meet in Mardyke House\, Cork\, T12W8RP\, each Wednesday from 6-8pm. Everyone is welcome. \nFor more information please email miriamdunne@presentationbrothers.org
URL:https://training.actondev9.com/event/sycamore-2-2-2/2028-07-26/
CATEGORIES:LEAF
ATTACH;FMTTYPE=image/jpeg:https://training.actondev9.com/wp-content/uploads/2024/11/Sycamore-poster.jpg
END:VEVENT
BEGIN:VEVENT
DTSTART;TZID=UTC:20280726T180000
DTEND;TZID=UTC:20280726T200000
DTSTAMP:20260422T015032
CREATED:20250117T115909Z
LAST-MODIFIED:20250117T120042Z
UID:10001377-1848247200-1848254400@training.actondev9.com
SUMMARY:Sycamore
DESCRIPTION:Sycamore is an informal course about the Christian faith and its relevance for life today. It gives you space to meet other people\, share ideas\, explore your beliefs\, and think about questions that really matter. Each session involves a short film\, time for discussion and pizza. This course is for 18-35 year olds. \nWe meet in Mardyke House\, Cork\, T12W8RP\, each Wednesday from 6-8pm. Everyone is welcome. \nFor more information please email miriamdunne@presentationbrothers.org
URL:https://training.actondev9.com/event/sycamore-2-2-2-2/2028-07-26/
CATEGORIES:LEAF
ATTACH;FMTTYPE=image/jpeg:https://training.actondev9.com/wp-content/uploads/2024/11/Sycamore-poster.jpg
END:VEVENT
BEGIN:VEVENT
DTSTART;TZID=UTC:20280802T180000
DTEND;TZID=UTC:20280802T200000
DTSTAMP:20260422T015032
CREATED:20250117T115713Z
LAST-MODIFIED:20250117T115713Z
UID:10001119-1848852000-1848859200@training.actondev9.com
SUMMARY:Sycamore
DESCRIPTION:Sycamore is an informal course about the Christian faith and its relevance for life today. It gives you space to meet other people\, share ideas\, explore your beliefs\, and think about questions that really matter. Each session involves a short film\, time for discussion and pizza. This course is for 18-35 year olds. \nWe meet in Mardyke House\, Cork\, T12W8RP\, each Wednesday from 6-8pm. Everyone is welcome. \nFor more information please email miriamdunne@presentationbrothers.org
URL:https://training.actondev9.com/event/sycamore-2-2-2/2028-08-02/
CATEGORIES:LEAF
ATTACH;FMTTYPE=image/jpeg:https://training.actondev9.com/wp-content/uploads/2024/11/Sycamore-poster.jpg
END:VEVENT
BEGIN:VEVENT
DTSTART;TZID=UTC:20280802T180000
DTEND;TZID=UTC:20280802T200000
DTSTAMP:20260422T015032
CREATED:20250117T115909Z
LAST-MODIFIED:20250117T120042Z
UID:10001378-1848852000-1848859200@training.actondev9.com
SUMMARY:Sycamore
DESCRIPTION:Sycamore is an informal course about the Christian faith and its relevance for life today. It gives you space to meet other people\, share ideas\, explore your beliefs\, and think about questions that really matter. Each session involves a short film\, time for discussion and pizza. This course is for 18-35 year olds. \nWe meet in Mardyke House\, Cork\, T12W8RP\, each Wednesday from 6-8pm. Everyone is welcome. \nFor more information please email miriamdunne@presentationbrothers.org
URL:https://training.actondev9.com/event/sycamore-2-2-2-2/2028-08-02/
CATEGORIES:LEAF
ATTACH;FMTTYPE=image/jpeg:https://training.actondev9.com/wp-content/uploads/2024/11/Sycamore-poster.jpg
END:VEVENT
BEGIN:VEVENT
DTSTART;TZID=UTC:20280809T180000
DTEND;TZID=UTC:20280809T200000
DTSTAMP:20260422T015032
CREATED:20250117T115713Z
LAST-MODIFIED:20250117T115713Z
UID:10001120-1849456800-1849464000@training.actondev9.com
SUMMARY:Sycamore
DESCRIPTION:Sycamore is an informal course about the Christian faith and its relevance for life today. It gives you space to meet other people\, share ideas\, explore your beliefs\, and think about questions that really matter. Each session involves a short film\, time for discussion and pizza. This course is for 18-35 year olds. \nWe meet in Mardyke House\, Cork\, T12W8RP\, each Wednesday from 6-8pm. Everyone is welcome. \nFor more information please email miriamdunne@presentationbrothers.org
URL:https://training.actondev9.com/event/sycamore-2-2-2/2028-08-09/
CATEGORIES:LEAF
ATTACH;FMTTYPE=image/jpeg:https://training.actondev9.com/wp-content/uploads/2024/11/Sycamore-poster.jpg
END:VEVENT
BEGIN:VEVENT
DTSTART;TZID=UTC:20280809T180000
DTEND;TZID=UTC:20280809T200000
DTSTAMP:20260422T015032
CREATED:20250117T115909Z
LAST-MODIFIED:20250117T120042Z
UID:10001379-1849456800-1849464000@training.actondev9.com
SUMMARY:Sycamore
DESCRIPTION:Sycamore is an informal course about the Christian faith and its relevance for life today. It gives you space to meet other people\, share ideas\, explore your beliefs\, and think about questions that really matter. Each session involves a short film\, time for discussion and pizza. This course is for 18-35 year olds. \nWe meet in Mardyke House\, Cork\, T12W8RP\, each Wednesday from 6-8pm. Everyone is welcome. \nFor more information please email miriamdunne@presentationbrothers.org
URL:https://training.actondev9.com/event/sycamore-2-2-2-2/2028-08-09/
CATEGORIES:LEAF
ATTACH;FMTTYPE=image/jpeg:https://training.actondev9.com/wp-content/uploads/2024/11/Sycamore-poster.jpg
END:VEVENT
BEGIN:VEVENT
DTSTART;TZID=UTC:20280816T180000
DTEND;TZID=UTC:20280816T200000
DTSTAMP:20260422T015032
CREATED:20250117T115713Z
LAST-MODIFIED:20250117T115713Z
UID:10001121-1850061600-1850068800@training.actondev9.com
SUMMARY:Sycamore
DESCRIPTION:Sycamore is an informal course about the Christian faith and its relevance for life today. It gives you space to meet other people\, share ideas\, explore your beliefs\, and think about questions that really matter. Each session involves a short film\, time for discussion and pizza. This course is for 18-35 year olds. \nWe meet in Mardyke House\, Cork\, T12W8RP\, each Wednesday from 6-8pm. Everyone is welcome. \nFor more information please email miriamdunne@presentationbrothers.org
URL:https://training.actondev9.com/event/sycamore-2-2-2/2028-08-16/
CATEGORIES:LEAF
ATTACH;FMTTYPE=image/jpeg:https://training.actondev9.com/wp-content/uploads/2024/11/Sycamore-poster.jpg
END:VEVENT
BEGIN:VEVENT
DTSTART;TZID=UTC:20280816T180000
DTEND;TZID=UTC:20280816T200000
DTSTAMP:20260422T015032
CREATED:20250117T115909Z
LAST-MODIFIED:20250117T120042Z
UID:10001380-1850061600-1850068800@training.actondev9.com
SUMMARY:Sycamore
DESCRIPTION:Sycamore is an informal course about the Christian faith and its relevance for life today. It gives you space to meet other people\, share ideas\, explore your beliefs\, and think about questions that really matter. Each session involves a short film\, time for discussion and pizza. This course is for 18-35 year olds. \nWe meet in Mardyke House\, Cork\, T12W8RP\, each Wednesday from 6-8pm. Everyone is welcome. \nFor more information please email miriamdunne@presentationbrothers.org
URL:https://training.actondev9.com/event/sycamore-2-2-2-2/2028-08-16/
CATEGORIES:LEAF
ATTACH;FMTTYPE=image/jpeg:https://training.actondev9.com/wp-content/uploads/2024/11/Sycamore-poster.jpg
END:VEVENT
BEGIN:VEVENT
DTSTART;TZID=UTC:20280823T180000
DTEND;TZID=UTC:20280823T200000
DTSTAMP:20260422T015032
CREATED:20250117T115713Z
LAST-MODIFIED:20250117T115713Z
UID:10001122-1850666400-1850673600@training.actondev9.com
SUMMARY:Sycamore
DESCRIPTION:Sycamore is an informal course about the Christian faith and its relevance for life today. It gives you space to meet other people\, share ideas\, explore your beliefs\, and think about questions that really matter. Each session involves a short film\, time for discussion and pizza. This course is for 18-35 year olds. \nWe meet in Mardyke House\, Cork\, T12W8RP\, each Wednesday from 6-8pm. Everyone is welcome. \nFor more information please email miriamdunne@presentationbrothers.org
URL:https://training.actondev9.com/event/sycamore-2-2-2/2028-08-23/
CATEGORIES:LEAF
ATTACH;FMTTYPE=image/jpeg:https://training.actondev9.com/wp-content/uploads/2024/11/Sycamore-poster.jpg
END:VEVENT
BEGIN:VEVENT
DTSTART;TZID=UTC:20280823T180000
DTEND;TZID=UTC:20280823T200000
DTSTAMP:20260422T015032
CREATED:20250117T115909Z
LAST-MODIFIED:20250117T120042Z
UID:10001381-1850666400-1850673600@training.actondev9.com
SUMMARY:Sycamore
DESCRIPTION:Sycamore is an informal course about the Christian faith and its relevance for life today. It gives you space to meet other people\, share ideas\, explore your beliefs\, and think about questions that really matter. Each session involves a short film\, time for discussion and pizza. This course is for 18-35 year olds. \nWe meet in Mardyke House\, Cork\, T12W8RP\, each Wednesday from 6-8pm. Everyone is welcome. \nFor more information please email miriamdunne@presentationbrothers.org
URL:https://training.actondev9.com/event/sycamore-2-2-2-2/2028-08-23/
CATEGORIES:LEAF
ATTACH;FMTTYPE=image/jpeg:https://training.actondev9.com/wp-content/uploads/2024/11/Sycamore-poster.jpg
END:VEVENT
BEGIN:VEVENT
DTSTART;TZID=UTC:20280830T180000
DTEND;TZID=UTC:20280830T200000
DTSTAMP:20260422T015032
CREATED:20250117T115713Z
LAST-MODIFIED:20250117T115713Z
UID:10001123-1851271200-1851278400@training.actondev9.com
SUMMARY:Sycamore
DESCRIPTION:Sycamore is an informal course about the Christian faith and its relevance for life today. It gives you space to meet other people\, share ideas\, explore your beliefs\, and think about questions that really matter. Each session involves a short film\, time for discussion and pizza. This course is for 18-35 year olds. \nWe meet in Mardyke House\, Cork\, T12W8RP\, each Wednesday from 6-8pm. Everyone is welcome. \nFor more information please email miriamdunne@presentationbrothers.org
URL:https://training.actondev9.com/event/sycamore-2-2-2/2028-08-30/
CATEGORIES:LEAF
ATTACH;FMTTYPE=image/jpeg:https://training.actondev9.com/wp-content/uploads/2024/11/Sycamore-poster.jpg
END:VEVENT
BEGIN:VEVENT
DTSTART;TZID=UTC:20280830T180000
DTEND;TZID=UTC:20280830T200000
DTSTAMP:20260422T015032
CREATED:20250117T115909Z
LAST-MODIFIED:20250117T120042Z
UID:10001382-1851271200-1851278400@training.actondev9.com
SUMMARY:Sycamore
DESCRIPTION:Sycamore is an informal course about the Christian faith and its relevance for life today. It gives you space to meet other people\, share ideas\, explore your beliefs\, and think about questions that really matter. Each session involves a short film\, time for discussion and pizza. This course is for 18-35 year olds. \nWe meet in Mardyke House\, Cork\, T12W8RP\, each Wednesday from 6-8pm. Everyone is welcome. \nFor more information please email miriamdunne@presentationbrothers.org
URL:https://training.actondev9.com/event/sycamore-2-2-2-2/2028-08-30/
CATEGORIES:LEAF
ATTACH;FMTTYPE=image/jpeg:https://training.actondev9.com/wp-content/uploads/2024/11/Sycamore-poster.jpg
END:VEVENT
BEGIN:VEVENT
DTSTART;TZID=UTC:20280906T180000
DTEND;TZID=UTC:20280906T200000
DTSTAMP:20260422T015032
CREATED:20250117T115713Z
LAST-MODIFIED:20250117T115713Z
UID:10001124-1851876000-1851883200@training.actondev9.com
SUMMARY:Sycamore
DESCRIPTION:Sycamore is an informal course about the Christian faith and its relevance for life today. It gives you space to meet other people\, share ideas\, explore your beliefs\, and think about questions that really matter. Each session involves a short film\, time for discussion and pizza. This course is for 18-35 year olds. \nWe meet in Mardyke House\, Cork\, T12W8RP\, each Wednesday from 6-8pm. Everyone is welcome. \nFor more information please email miriamdunne@presentationbrothers.org
URL:https://training.actondev9.com/event/sycamore-2-2-2/2028-09-06/
CATEGORIES:LEAF
ATTACH;FMTTYPE=image/jpeg:https://training.actondev9.com/wp-content/uploads/2024/11/Sycamore-poster.jpg
END:VEVENT
BEGIN:VEVENT
DTSTART;TZID=UTC:20280906T180000
DTEND;TZID=UTC:20280906T200000
DTSTAMP:20260422T015032
CREATED:20250117T115909Z
LAST-MODIFIED:20250117T120042Z
UID:10001383-1851876000-1851883200@training.actondev9.com
SUMMARY:Sycamore
DESCRIPTION:Sycamore is an informal course about the Christian faith and its relevance for life today. It gives you space to meet other people\, share ideas\, explore your beliefs\, and think about questions that really matter. Each session involves a short film\, time for discussion and pizza. This course is for 18-35 year olds. \nWe meet in Mardyke House\, Cork\, T12W8RP\, each Wednesday from 6-8pm. Everyone is welcome. \nFor more information please email miriamdunne@presentationbrothers.org
URL:https://training.actondev9.com/event/sycamore-2-2-2-2/2028-09-06/
CATEGORIES:LEAF
ATTACH;FMTTYPE=image/jpeg:https://training.actondev9.com/wp-content/uploads/2024/11/Sycamore-poster.jpg
END:VEVENT
BEGIN:VEVENT
DTSTART;TZID=UTC:20280913T180000
DTEND;TZID=UTC:20280913T200000
DTSTAMP:20260422T015032
CREATED:20250117T115713Z
LAST-MODIFIED:20250117T115713Z
UID:10001125-1852480800-1852488000@training.actondev9.com
SUMMARY:Sycamore
DESCRIPTION:Sycamore is an informal course about the Christian faith and its relevance for life today. It gives you space to meet other people\, share ideas\, explore your beliefs\, and think about questions that really matter. Each session involves a short film\, time for discussion and pizza. This course is for 18-35 year olds. \nWe meet in Mardyke House\, Cork\, T12W8RP\, each Wednesday from 6-8pm. Everyone is welcome. \nFor more information please email miriamdunne@presentationbrothers.org
URL:https://training.actondev9.com/event/sycamore-2-2-2/2028-09-13/
CATEGORIES:LEAF
ATTACH;FMTTYPE=image/jpeg:https://training.actondev9.com/wp-content/uploads/2024/11/Sycamore-poster.jpg
END:VEVENT
BEGIN:VEVENT
DTSTART;TZID=UTC:20280913T180000
DTEND;TZID=UTC:20280913T200000
DTSTAMP:20260422T015032
CREATED:20250117T115909Z
LAST-MODIFIED:20250117T120042Z
UID:10001384-1852480800-1852488000@training.actondev9.com
SUMMARY:Sycamore
DESCRIPTION:Sycamore is an informal course about the Christian faith and its relevance for life today. It gives you space to meet other people\, share ideas\, explore your beliefs\, and think about questions that really matter. Each session involves a short film\, time for discussion and pizza. This course is for 18-35 year olds. \nWe meet in Mardyke House\, Cork\, T12W8RP\, each Wednesday from 6-8pm. Everyone is welcome. \nFor more information please email miriamdunne@presentationbrothers.org
URL:https://training.actondev9.com/event/sycamore-2-2-2-2/2028-09-13/
CATEGORIES:LEAF
ATTACH;FMTTYPE=image/jpeg:https://training.actondev9.com/wp-content/uploads/2024/11/Sycamore-poster.jpg
END:VEVENT
BEGIN:VEVENT
DTSTART;TZID=UTC:20280920T180000
DTEND;TZID=UTC:20280920T200000
DTSTAMP:20260422T015032
CREATED:20250117T115713Z
LAST-MODIFIED:20250117T115713Z
UID:10001126-1853085600-1853092800@training.actondev9.com
SUMMARY:Sycamore
DESCRIPTION:Sycamore is an informal course about the Christian faith and its relevance for life today. It gives you space to meet other people\, share ideas\, explore your beliefs\, and think about questions that really matter. Each session involves a short film\, time for discussion and pizza. This course is for 18-35 year olds. \nWe meet in Mardyke House\, Cork\, T12W8RP\, each Wednesday from 6-8pm. Everyone is welcome. \nFor more information please email miriamdunne@presentationbrothers.org
URL:https://training.actondev9.com/event/sycamore-2-2-2/2028-09-20/
CATEGORIES:LEAF
ATTACH;FMTTYPE=image/jpeg:https://training.actondev9.com/wp-content/uploads/2024/11/Sycamore-poster.jpg
END:VEVENT
BEGIN:VEVENT
DTSTART;TZID=UTC:20280920T180000
DTEND;TZID=UTC:20280920T200000
DTSTAMP:20260422T015032
CREATED:20250117T115909Z
LAST-MODIFIED:20250117T120042Z
UID:10001385-1853085600-1853092800@training.actondev9.com
SUMMARY:Sycamore
DESCRIPTION:Sycamore is an informal course about the Christian faith and its relevance for life today. It gives you space to meet other people\, share ideas\, explore your beliefs\, and think about questions that really matter. Each session involves a short film\, time for discussion and pizza. This course is for 18-35 year olds. \nWe meet in Mardyke House\, Cork\, T12W8RP\, each Wednesday from 6-8pm. Everyone is welcome. \nFor more information please email miriamdunne@presentationbrothers.org
URL:https://training.actondev9.com/event/sycamore-2-2-2-2/2028-09-20/
CATEGORIES:LEAF
ATTACH;FMTTYPE=image/jpeg:https://training.actondev9.com/wp-content/uploads/2024/11/Sycamore-poster.jpg
END:VEVENT
BEGIN:VEVENT
DTSTART;TZID=UTC:20280927T180000
DTEND;TZID=UTC:20280927T200000
DTSTAMP:20260422T015032
CREATED:20250117T115713Z
LAST-MODIFIED:20250117T115713Z
UID:10001127-1853690400-1853697600@training.actondev9.com
SUMMARY:Sycamore
DESCRIPTION:Sycamore is an informal course about the Christian faith and its relevance for life today. It gives you space to meet other people\, share ideas\, explore your beliefs\, and think about questions that really matter. Each session involves a short film\, time for discussion and pizza. This course is for 18-35 year olds. \nWe meet in Mardyke House\, Cork\, T12W8RP\, each Wednesday from 6-8pm. Everyone is welcome. \nFor more information please email miriamdunne@presentationbrothers.org
URL:https://training.actondev9.com/event/sycamore-2-2-2/2028-09-27/
CATEGORIES:LEAF
ATTACH;FMTTYPE=image/jpeg:https://training.actondev9.com/wp-content/uploads/2024/11/Sycamore-poster.jpg
END:VEVENT
BEGIN:VEVENT
DTSTART;TZID=UTC:20280927T180000
DTEND;TZID=UTC:20280927T200000
DTSTAMP:20260422T015032
CREATED:20250117T115909Z
LAST-MODIFIED:20250117T120042Z
UID:10001386-1853690400-1853697600@training.actondev9.com
SUMMARY:Sycamore
DESCRIPTION:Sycamore is an informal course about the Christian faith and its relevance for life today. It gives you space to meet other people\, share ideas\, explore your beliefs\, and think about questions that really matter. Each session involves a short film\, time for discussion and pizza. This course is for 18-35 year olds. \nWe meet in Mardyke House\, Cork\, T12W8RP\, each Wednesday from 6-8pm. Everyone is welcome. \nFor more information please email miriamdunne@presentationbrothers.org
URL:https://training.actondev9.com/event/sycamore-2-2-2-2/2028-09-27/
CATEGORIES:LEAF
ATTACH;FMTTYPE=image/jpeg:https://training.actondev9.com/wp-content/uploads/2024/11/Sycamore-poster.jpg
END:VEVENT
BEGIN:VEVENT
DTSTART;TZID=UTC:20281004T180000
DTEND;TZID=UTC:20281004T200000
DTSTAMP:20260422T015032
CREATED:20250117T115713Z
LAST-MODIFIED:20250117T115713Z
UID:10001128-1854295200-1854302400@training.actondev9.com
SUMMARY:Sycamore
DESCRIPTION:Sycamore is an informal course about the Christian faith and its relevance for life today. It gives you space to meet other people\, share ideas\, explore your beliefs\, and think about questions that really matter. Each session involves a short film\, time for discussion and pizza. This course is for 18-35 year olds. \nWe meet in Mardyke House\, Cork\, T12W8RP\, each Wednesday from 6-8pm. Everyone is welcome. \nFor more information please email miriamdunne@presentationbrothers.org
URL:https://training.actondev9.com/event/sycamore-2-2-2/2028-10-04/
CATEGORIES:LEAF
ATTACH;FMTTYPE=image/jpeg:https://training.actondev9.com/wp-content/uploads/2024/11/Sycamore-poster.jpg
END:VEVENT
BEGIN:VEVENT
DTSTART;TZID=UTC:20281004T180000
DTEND;TZID=UTC:20281004T200000
DTSTAMP:20260422T015032
CREATED:20250117T115909Z
LAST-MODIFIED:20250117T120042Z
UID:10001387-1854295200-1854302400@training.actondev9.com
SUMMARY:Sycamore
DESCRIPTION:Sycamore is an informal course about the Christian faith and its relevance for life today. It gives you space to meet other people\, share ideas\, explore your beliefs\, and think about questions that really matter. Each session involves a short film\, time for discussion and pizza. This course is for 18-35 year olds. \nWe meet in Mardyke House\, Cork\, T12W8RP\, each Wednesday from 6-8pm. Everyone is welcome. \nFor more information please email miriamdunne@presentationbrothers.org
URL:https://training.actondev9.com/event/sycamore-2-2-2-2/2028-10-04/
CATEGORIES:LEAF
ATTACH;FMTTYPE=image/jpeg:https://training.actondev9.com/wp-content/uploads/2024/11/Sycamore-poster.jpg
END:VEVENT
END:VCALENDAR