BEGIN:VCALENDAR
VERSION:2.0
PRODID:-//Presentation Brothers - ECPv6.9.0//NONSGML v1.0//EN
CALSCALE:GREGORIAN
METHOD:PUBLISH
X-WR-CALNAME:Presentation Brothers
X-ORIGINAL-URL:https://training.actondev9.com
X-WR-CALDESC:Events for Presentation Brothers
REFRESH-INTERVAL;VALUE=DURATION:PT1H
X-Robots-Tag:noindex
X-PUBLISHED-TTL:PT1H
BEGIN:VTIMEZONE
TZID:UTC
BEGIN:STANDARD
TZOFFSETFROM:+0000
TZOFFSETTO:+0000
TZNAME:UTC
DTSTART:20290101T000000
END:STANDARD
END:VTIMEZONE
BEGIN:VEVENT
DTSTART;TZID=UTC:20290307T180000
DTEND;TZID=UTC:20290307T200000
DTSTAMP:20260422T104855
CREATED:20250117T115713Z
LAST-MODIFIED:20250117T115713Z
UID:10001150-1867600800-1867608000@training.actondev9.com
SUMMARY:Sycamore
DESCRIPTION:Sycamore is an informal course about the Christian faith and its relevance for life today. It gives you space to meet other people\, share ideas\, explore your beliefs\, and think about questions that really matter. Each session involves a short film\, time for discussion and pizza. This course is for 18-35 year olds. \nWe meet in Mardyke House\, Cork\, T12W8RP\, each Wednesday from 6-8pm. Everyone is welcome. \nFor more information please email miriamdunne@presentationbrothers.org
URL:https://training.actondev9.com/event/sycamore-2-2-2/2029-03-07/
CATEGORIES:LEAF
ATTACH;FMTTYPE=image/jpeg:https://training.actondev9.com/wp-content/uploads/2024/11/Sycamore-poster.jpg
END:VEVENT
BEGIN:VEVENT
DTSTART;TZID=UTC:20290307T180000
DTEND;TZID=UTC:20290307T200000
DTSTAMP:20260422T104855
CREATED:20250117T115909Z
LAST-MODIFIED:20250117T120042Z
UID:10001409-1867600800-1867608000@training.actondev9.com
SUMMARY:Sycamore
DESCRIPTION:Sycamore is an informal course about the Christian faith and its relevance for life today. It gives you space to meet other people\, share ideas\, explore your beliefs\, and think about questions that really matter. Each session involves a short film\, time for discussion and pizza. This course is for 18-35 year olds. \nWe meet in Mardyke House\, Cork\, T12W8RP\, each Wednesday from 6-8pm. Everyone is welcome. \nFor more information please email miriamdunne@presentationbrothers.org
URL:https://training.actondev9.com/event/sycamore-2-2-2-2/2029-03-07/
CATEGORIES:LEAF
ATTACH;FMTTYPE=image/jpeg:https://training.actondev9.com/wp-content/uploads/2024/11/Sycamore-poster.jpg
END:VEVENT
BEGIN:VEVENT
DTSTART;TZID=UTC:20290314T180000
DTEND;TZID=UTC:20290314T200000
DTSTAMP:20260422T104855
CREATED:20250117T115713Z
LAST-MODIFIED:20250117T115713Z
UID:10001151-1868205600-1868212800@training.actondev9.com
SUMMARY:Sycamore
DESCRIPTION:Sycamore is an informal course about the Christian faith and its relevance for life today. It gives you space to meet other people\, share ideas\, explore your beliefs\, and think about questions that really matter. Each session involves a short film\, time for discussion and pizza. This course is for 18-35 year olds. \nWe meet in Mardyke House\, Cork\, T12W8RP\, each Wednesday from 6-8pm. Everyone is welcome. \nFor more information please email miriamdunne@presentationbrothers.org
URL:https://training.actondev9.com/event/sycamore-2-2-2/2029-03-14/
CATEGORIES:LEAF
ATTACH;FMTTYPE=image/jpeg:https://training.actondev9.com/wp-content/uploads/2024/11/Sycamore-poster.jpg
END:VEVENT
BEGIN:VEVENT
DTSTART;TZID=UTC:20290314T180000
DTEND;TZID=UTC:20290314T200000
DTSTAMP:20260422T104855
CREATED:20250117T115909Z
LAST-MODIFIED:20250117T120042Z
UID:10001410-1868205600-1868212800@training.actondev9.com
SUMMARY:Sycamore
DESCRIPTION:Sycamore is an informal course about the Christian faith and its relevance for life today. It gives you space to meet other people\, share ideas\, explore your beliefs\, and think about questions that really matter. Each session involves a short film\, time for discussion and pizza. This course is for 18-35 year olds. \nWe meet in Mardyke House\, Cork\, T12W8RP\, each Wednesday from 6-8pm. Everyone is welcome. \nFor more information please email miriamdunne@presentationbrothers.org
URL:https://training.actondev9.com/event/sycamore-2-2-2-2/2029-03-14/
CATEGORIES:LEAF
ATTACH;FMTTYPE=image/jpeg:https://training.actondev9.com/wp-content/uploads/2024/11/Sycamore-poster.jpg
END:VEVENT
BEGIN:VEVENT
DTSTART;TZID=UTC:20290321T180000
DTEND;TZID=UTC:20290321T200000
DTSTAMP:20260422T104855
CREATED:20250117T115713Z
LAST-MODIFIED:20250117T115713Z
UID:10001152-1868810400-1868817600@training.actondev9.com
SUMMARY:Sycamore
DESCRIPTION:Sycamore is an informal course about the Christian faith and its relevance for life today. It gives you space to meet other people\, share ideas\, explore your beliefs\, and think about questions that really matter. Each session involves a short film\, time for discussion and pizza. This course is for 18-35 year olds. \nWe meet in Mardyke House\, Cork\, T12W8RP\, each Wednesday from 6-8pm. Everyone is welcome. \nFor more information please email miriamdunne@presentationbrothers.org
URL:https://training.actondev9.com/event/sycamore-2-2-2/2029-03-21/
CATEGORIES:LEAF
ATTACH;FMTTYPE=image/jpeg:https://training.actondev9.com/wp-content/uploads/2024/11/Sycamore-poster.jpg
END:VEVENT
BEGIN:VEVENT
DTSTART;TZID=UTC:20290321T180000
DTEND;TZID=UTC:20290321T200000
DTSTAMP:20260422T104855
CREATED:20250117T115909Z
LAST-MODIFIED:20250117T120042Z
UID:10001411-1868810400-1868817600@training.actondev9.com
SUMMARY:Sycamore
DESCRIPTION:Sycamore is an informal course about the Christian faith and its relevance for life today. It gives you space to meet other people\, share ideas\, explore your beliefs\, and think about questions that really matter. Each session involves a short film\, time for discussion and pizza. This course is for 18-35 year olds. \nWe meet in Mardyke House\, Cork\, T12W8RP\, each Wednesday from 6-8pm. Everyone is welcome. \nFor more information please email miriamdunne@presentationbrothers.org
URL:https://training.actondev9.com/event/sycamore-2-2-2-2/2029-03-21/
CATEGORIES:LEAF
ATTACH;FMTTYPE=image/jpeg:https://training.actondev9.com/wp-content/uploads/2024/11/Sycamore-poster.jpg
END:VEVENT
BEGIN:VEVENT
DTSTART;TZID=UTC:20290328T180000
DTEND;TZID=UTC:20290328T200000
DTSTAMP:20260422T104855
CREATED:20250117T115713Z
LAST-MODIFIED:20250117T115713Z
UID:10001153-1869415200-1869422400@training.actondev9.com
SUMMARY:Sycamore
DESCRIPTION:Sycamore is an informal course about the Christian faith and its relevance for life today. It gives you space to meet other people\, share ideas\, explore your beliefs\, and think about questions that really matter. Each session involves a short film\, time for discussion and pizza. This course is for 18-35 year olds. \nWe meet in Mardyke House\, Cork\, T12W8RP\, each Wednesday from 6-8pm. Everyone is welcome. \nFor more information please email miriamdunne@presentationbrothers.org
URL:https://training.actondev9.com/event/sycamore-2-2-2/2029-03-28/
CATEGORIES:LEAF
ATTACH;FMTTYPE=image/jpeg:https://training.actondev9.com/wp-content/uploads/2024/11/Sycamore-poster.jpg
END:VEVENT
BEGIN:VEVENT
DTSTART;TZID=UTC:20290328T180000
DTEND;TZID=UTC:20290328T200000
DTSTAMP:20260422T104855
CREATED:20250117T115909Z
LAST-MODIFIED:20250117T120042Z
UID:10001412-1869415200-1869422400@training.actondev9.com
SUMMARY:Sycamore
DESCRIPTION:Sycamore is an informal course about the Christian faith and its relevance for life today. It gives you space to meet other people\, share ideas\, explore your beliefs\, and think about questions that really matter. Each session involves a short film\, time for discussion and pizza. This course is for 18-35 year olds. \nWe meet in Mardyke House\, Cork\, T12W8RP\, each Wednesday from 6-8pm. Everyone is welcome. \nFor more information please email miriamdunne@presentationbrothers.org
URL:https://training.actondev9.com/event/sycamore-2-2-2-2/2029-03-28/
CATEGORIES:LEAF
ATTACH;FMTTYPE=image/jpeg:https://training.actondev9.com/wp-content/uploads/2024/11/Sycamore-poster.jpg
END:VEVENT
BEGIN:VEVENT
DTSTART;TZID=UTC:20290404T180000
DTEND;TZID=UTC:20290404T200000
DTSTAMP:20260422T104855
CREATED:20250117T115713Z
LAST-MODIFIED:20250117T115713Z
UID:10001154-1870020000-1870027200@training.actondev9.com
SUMMARY:Sycamore
DESCRIPTION:Sycamore is an informal course about the Christian faith and its relevance for life today. It gives you space to meet other people\, share ideas\, explore your beliefs\, and think about questions that really matter. Each session involves a short film\, time for discussion and pizza. This course is for 18-35 year olds. \nWe meet in Mardyke House\, Cork\, T12W8RP\, each Wednesday from 6-8pm. Everyone is welcome. \nFor more information please email miriamdunne@presentationbrothers.org
URL:https://training.actondev9.com/event/sycamore-2-2-2/2029-04-04/
CATEGORIES:LEAF
ATTACH;FMTTYPE=image/jpeg:https://training.actondev9.com/wp-content/uploads/2024/11/Sycamore-poster.jpg
END:VEVENT
BEGIN:VEVENT
DTSTART;TZID=UTC:20290404T180000
DTEND;TZID=UTC:20290404T200000
DTSTAMP:20260422T104855
CREATED:20250117T115909Z
LAST-MODIFIED:20250117T120042Z
UID:10001413-1870020000-1870027200@training.actondev9.com
SUMMARY:Sycamore
DESCRIPTION:Sycamore is an informal course about the Christian faith and its relevance for life today. It gives you space to meet other people\, share ideas\, explore your beliefs\, and think about questions that really matter. Each session involves a short film\, time for discussion and pizza. This course is for 18-35 year olds. \nWe meet in Mardyke House\, Cork\, T12W8RP\, each Wednesday from 6-8pm. Everyone is welcome. \nFor more information please email miriamdunne@presentationbrothers.org
URL:https://training.actondev9.com/event/sycamore-2-2-2-2/2029-04-04/
CATEGORIES:LEAF
ATTACH;FMTTYPE=image/jpeg:https://training.actondev9.com/wp-content/uploads/2024/11/Sycamore-poster.jpg
END:VEVENT
BEGIN:VEVENT
DTSTART;TZID=UTC:20290411T180000
DTEND;TZID=UTC:20290411T200000
DTSTAMP:20260422T104855
CREATED:20250117T115713Z
LAST-MODIFIED:20250117T115713Z
UID:10001155-1870624800-1870632000@training.actondev9.com
SUMMARY:Sycamore
DESCRIPTION:Sycamore is an informal course about the Christian faith and its relevance for life today. It gives you space to meet other people\, share ideas\, explore your beliefs\, and think about questions that really matter. Each session involves a short film\, time for discussion and pizza. This course is for 18-35 year olds. \nWe meet in Mardyke House\, Cork\, T12W8RP\, each Wednesday from 6-8pm. Everyone is welcome. \nFor more information please email miriamdunne@presentationbrothers.org
URL:https://training.actondev9.com/event/sycamore-2-2-2/2029-04-11/
CATEGORIES:LEAF
ATTACH;FMTTYPE=image/jpeg:https://training.actondev9.com/wp-content/uploads/2024/11/Sycamore-poster.jpg
END:VEVENT
BEGIN:VEVENT
DTSTART;TZID=UTC:20290411T180000
DTEND;TZID=UTC:20290411T200000
DTSTAMP:20260422T104855
CREATED:20250117T115909Z
LAST-MODIFIED:20250117T120042Z
UID:10001414-1870624800-1870632000@training.actondev9.com
SUMMARY:Sycamore
DESCRIPTION:Sycamore is an informal course about the Christian faith and its relevance for life today. It gives you space to meet other people\, share ideas\, explore your beliefs\, and think about questions that really matter. Each session involves a short film\, time for discussion and pizza. This course is for 18-35 year olds. \nWe meet in Mardyke House\, Cork\, T12W8RP\, each Wednesday from 6-8pm. Everyone is welcome. \nFor more information please email miriamdunne@presentationbrothers.org
URL:https://training.actondev9.com/event/sycamore-2-2-2-2/2029-04-11/
CATEGORIES:LEAF
ATTACH;FMTTYPE=image/jpeg:https://training.actondev9.com/wp-content/uploads/2024/11/Sycamore-poster.jpg
END:VEVENT
BEGIN:VEVENT
DTSTART;TZID=UTC:20290418T180000
DTEND;TZID=UTC:20290418T200000
DTSTAMP:20260422T104855
CREATED:20250117T115713Z
LAST-MODIFIED:20250117T115713Z
UID:10001156-1871229600-1871236800@training.actondev9.com
SUMMARY:Sycamore
DESCRIPTION:Sycamore is an informal course about the Christian faith and its relevance for life today. It gives you space to meet other people\, share ideas\, explore your beliefs\, and think about questions that really matter. Each session involves a short film\, time for discussion and pizza. This course is for 18-35 year olds. \nWe meet in Mardyke House\, Cork\, T12W8RP\, each Wednesday from 6-8pm. Everyone is welcome. \nFor more information please email miriamdunne@presentationbrothers.org
URL:https://training.actondev9.com/event/sycamore-2-2-2/2029-04-18/
CATEGORIES:LEAF
ATTACH;FMTTYPE=image/jpeg:https://training.actondev9.com/wp-content/uploads/2024/11/Sycamore-poster.jpg
END:VEVENT
BEGIN:VEVENT
DTSTART;TZID=UTC:20290418T180000
DTEND;TZID=UTC:20290418T200000
DTSTAMP:20260422T104855
CREATED:20250117T115909Z
LAST-MODIFIED:20250117T120042Z
UID:10001415-1871229600-1871236800@training.actondev9.com
SUMMARY:Sycamore
DESCRIPTION:Sycamore is an informal course about the Christian faith and its relevance for life today. It gives you space to meet other people\, share ideas\, explore your beliefs\, and think about questions that really matter. Each session involves a short film\, time for discussion and pizza. This course is for 18-35 year olds. \nWe meet in Mardyke House\, Cork\, T12W8RP\, each Wednesday from 6-8pm. Everyone is welcome. \nFor more information please email miriamdunne@presentationbrothers.org
URL:https://training.actondev9.com/event/sycamore-2-2-2-2/2029-04-18/
CATEGORIES:LEAF
ATTACH;FMTTYPE=image/jpeg:https://training.actondev9.com/wp-content/uploads/2024/11/Sycamore-poster.jpg
END:VEVENT
BEGIN:VEVENT
DTSTART;TZID=UTC:20290425T180000
DTEND;TZID=UTC:20290425T200000
DTSTAMP:20260422T104855
CREATED:20250117T115713Z
LAST-MODIFIED:20250117T115713Z
UID:10001157-1871834400-1871841600@training.actondev9.com
SUMMARY:Sycamore
DESCRIPTION:Sycamore is an informal course about the Christian faith and its relevance for life today. It gives you space to meet other people\, share ideas\, explore your beliefs\, and think about questions that really matter. Each session involves a short film\, time for discussion and pizza. This course is for 18-35 year olds. \nWe meet in Mardyke House\, Cork\, T12W8RP\, each Wednesday from 6-8pm. Everyone is welcome. \nFor more information please email miriamdunne@presentationbrothers.org
URL:https://training.actondev9.com/event/sycamore-2-2-2/2029-04-25/
CATEGORIES:LEAF
ATTACH;FMTTYPE=image/jpeg:https://training.actondev9.com/wp-content/uploads/2024/11/Sycamore-poster.jpg
END:VEVENT
BEGIN:VEVENT
DTSTART;TZID=UTC:20290425T180000
DTEND;TZID=UTC:20290425T200000
DTSTAMP:20260422T104855
CREATED:20250117T115909Z
LAST-MODIFIED:20250117T120042Z
UID:10001416-1871834400-1871841600@training.actondev9.com
SUMMARY:Sycamore
DESCRIPTION:Sycamore is an informal course about the Christian faith and its relevance for life today. It gives you space to meet other people\, share ideas\, explore your beliefs\, and think about questions that really matter. Each session involves a short film\, time for discussion and pizza. This course is for 18-35 year olds. \nWe meet in Mardyke House\, Cork\, T12W8RP\, each Wednesday from 6-8pm. Everyone is welcome. \nFor more information please email miriamdunne@presentationbrothers.org
URL:https://training.actondev9.com/event/sycamore-2-2-2-2/2029-04-25/
CATEGORIES:LEAF
ATTACH;FMTTYPE=image/jpeg:https://training.actondev9.com/wp-content/uploads/2024/11/Sycamore-poster.jpg
END:VEVENT
BEGIN:VEVENT
DTSTART;TZID=UTC:20290502T180000
DTEND;TZID=UTC:20290502T200000
DTSTAMP:20260422T104855
CREATED:20250117T115713Z
LAST-MODIFIED:20250117T115713Z
UID:10001158-1872439200-1872446400@training.actondev9.com
SUMMARY:Sycamore
DESCRIPTION:Sycamore is an informal course about the Christian faith and its relevance for life today. It gives you space to meet other people\, share ideas\, explore your beliefs\, and think about questions that really matter. Each session involves a short film\, time for discussion and pizza. This course is for 18-35 year olds. \nWe meet in Mardyke House\, Cork\, T12W8RP\, each Wednesday from 6-8pm. Everyone is welcome. \nFor more information please email miriamdunne@presentationbrothers.org
URL:https://training.actondev9.com/event/sycamore-2-2-2/2029-05-02/
CATEGORIES:LEAF
ATTACH;FMTTYPE=image/jpeg:https://training.actondev9.com/wp-content/uploads/2024/11/Sycamore-poster.jpg
END:VEVENT
BEGIN:VEVENT
DTSTART;TZID=UTC:20290502T180000
DTEND;TZID=UTC:20290502T200000
DTSTAMP:20260422T104855
CREATED:20250117T115909Z
LAST-MODIFIED:20250117T120042Z
UID:10001417-1872439200-1872446400@training.actondev9.com
SUMMARY:Sycamore
DESCRIPTION:Sycamore is an informal course about the Christian faith and its relevance for life today. It gives you space to meet other people\, share ideas\, explore your beliefs\, and think about questions that really matter. Each session involves a short film\, time for discussion and pizza. This course is for 18-35 year olds. \nWe meet in Mardyke House\, Cork\, T12W8RP\, each Wednesday from 6-8pm. Everyone is welcome. \nFor more information please email miriamdunne@presentationbrothers.org
URL:https://training.actondev9.com/event/sycamore-2-2-2-2/2029-05-02/
CATEGORIES:LEAF
ATTACH;FMTTYPE=image/jpeg:https://training.actondev9.com/wp-content/uploads/2024/11/Sycamore-poster.jpg
END:VEVENT
BEGIN:VEVENT
DTSTART;TZID=UTC:20290509T180000
DTEND;TZID=UTC:20290509T200000
DTSTAMP:20260422T104855
CREATED:20250117T115713Z
LAST-MODIFIED:20250117T115713Z
UID:10001159-1873044000-1873051200@training.actondev9.com
SUMMARY:Sycamore
DESCRIPTION:Sycamore is an informal course about the Christian faith and its relevance for life today. It gives you space to meet other people\, share ideas\, explore your beliefs\, and think about questions that really matter. Each session involves a short film\, time for discussion and pizza. This course is for 18-35 year olds. \nWe meet in Mardyke House\, Cork\, T12W8RP\, each Wednesday from 6-8pm. Everyone is welcome. \nFor more information please email miriamdunne@presentationbrothers.org
URL:https://training.actondev9.com/event/sycamore-2-2-2/2029-05-09/
CATEGORIES:LEAF
ATTACH;FMTTYPE=image/jpeg:https://training.actondev9.com/wp-content/uploads/2024/11/Sycamore-poster.jpg
END:VEVENT
BEGIN:VEVENT
DTSTART;TZID=UTC:20290509T180000
DTEND;TZID=UTC:20290509T200000
DTSTAMP:20260422T104855
CREATED:20250117T115909Z
LAST-MODIFIED:20250117T120042Z
UID:10001418-1873044000-1873051200@training.actondev9.com
SUMMARY:Sycamore
DESCRIPTION:Sycamore is an informal course about the Christian faith and its relevance for life today. It gives you space to meet other people\, share ideas\, explore your beliefs\, and think about questions that really matter. Each session involves a short film\, time for discussion and pizza. This course is for 18-35 year olds. \nWe meet in Mardyke House\, Cork\, T12W8RP\, each Wednesday from 6-8pm. Everyone is welcome. \nFor more information please email miriamdunne@presentationbrothers.org
URL:https://training.actondev9.com/event/sycamore-2-2-2-2/2029-05-09/
CATEGORIES:LEAF
ATTACH;FMTTYPE=image/jpeg:https://training.actondev9.com/wp-content/uploads/2024/11/Sycamore-poster.jpg
END:VEVENT
BEGIN:VEVENT
DTSTART;TZID=UTC:20290516T180000
DTEND;TZID=UTC:20290516T200000
DTSTAMP:20260422T104855
CREATED:20250117T115713Z
LAST-MODIFIED:20250117T115713Z
UID:10001160-1873648800-1873656000@training.actondev9.com
SUMMARY:Sycamore
DESCRIPTION:Sycamore is an informal course about the Christian faith and its relevance for life today. It gives you space to meet other people\, share ideas\, explore your beliefs\, and think about questions that really matter. Each session involves a short film\, time for discussion and pizza. This course is for 18-35 year olds. \nWe meet in Mardyke House\, Cork\, T12W8RP\, each Wednesday from 6-8pm. Everyone is welcome. \nFor more information please email miriamdunne@presentationbrothers.org
URL:https://training.actondev9.com/event/sycamore-2-2-2/2029-05-16/
CATEGORIES:LEAF
ATTACH;FMTTYPE=image/jpeg:https://training.actondev9.com/wp-content/uploads/2024/11/Sycamore-poster.jpg
END:VEVENT
BEGIN:VEVENT
DTSTART;TZID=UTC:20290516T180000
DTEND;TZID=UTC:20290516T200000
DTSTAMP:20260422T104855
CREATED:20250117T115909Z
LAST-MODIFIED:20250117T120042Z
UID:10001419-1873648800-1873656000@training.actondev9.com
SUMMARY:Sycamore
DESCRIPTION:Sycamore is an informal course about the Christian faith and its relevance for life today. It gives you space to meet other people\, share ideas\, explore your beliefs\, and think about questions that really matter. Each session involves a short film\, time for discussion and pizza. This course is for 18-35 year olds. \nWe meet in Mardyke House\, Cork\, T12W8RP\, each Wednesday from 6-8pm. Everyone is welcome. \nFor more information please email miriamdunne@presentationbrothers.org
URL:https://training.actondev9.com/event/sycamore-2-2-2-2/2029-05-16/
CATEGORIES:LEAF
ATTACH;FMTTYPE=image/jpeg:https://training.actondev9.com/wp-content/uploads/2024/11/Sycamore-poster.jpg
END:VEVENT
BEGIN:VEVENT
DTSTART;TZID=UTC:20290523T180000
DTEND;TZID=UTC:20290523T200000
DTSTAMP:20260422T104855
CREATED:20250117T115713Z
LAST-MODIFIED:20250117T115713Z
UID:10001161-1874253600-1874260800@training.actondev9.com
SUMMARY:Sycamore
DESCRIPTION:Sycamore is an informal course about the Christian faith and its relevance for life today. It gives you space to meet other people\, share ideas\, explore your beliefs\, and think about questions that really matter. Each session involves a short film\, time for discussion and pizza. This course is for 18-35 year olds. \nWe meet in Mardyke House\, Cork\, T12W8RP\, each Wednesday from 6-8pm. Everyone is welcome. \nFor more information please email miriamdunne@presentationbrothers.org
URL:https://training.actondev9.com/event/sycamore-2-2-2/2029-05-23/
CATEGORIES:LEAF
ATTACH;FMTTYPE=image/jpeg:https://training.actondev9.com/wp-content/uploads/2024/11/Sycamore-poster.jpg
END:VEVENT
BEGIN:VEVENT
DTSTART;TZID=UTC:20290523T180000
DTEND;TZID=UTC:20290523T200000
DTSTAMP:20260422T104855
CREATED:20250117T115909Z
LAST-MODIFIED:20250117T120042Z
UID:10001420-1874253600-1874260800@training.actondev9.com
SUMMARY:Sycamore
DESCRIPTION:Sycamore is an informal course about the Christian faith and its relevance for life today. It gives you space to meet other people\, share ideas\, explore your beliefs\, and think about questions that really matter. Each session involves a short film\, time for discussion and pizza. This course is for 18-35 year olds. \nWe meet in Mardyke House\, Cork\, T12W8RP\, each Wednesday from 6-8pm. Everyone is welcome. \nFor more information please email miriamdunne@presentationbrothers.org
URL:https://training.actondev9.com/event/sycamore-2-2-2-2/2029-05-23/
CATEGORIES:LEAF
ATTACH;FMTTYPE=image/jpeg:https://training.actondev9.com/wp-content/uploads/2024/11/Sycamore-poster.jpg
END:VEVENT
BEGIN:VEVENT
DTSTART;TZID=UTC:20290530T180000
DTEND;TZID=UTC:20290530T200000
DTSTAMP:20260422T104855
CREATED:20250117T115713Z
LAST-MODIFIED:20250117T115713Z
UID:10001162-1874858400-1874865600@training.actondev9.com
SUMMARY:Sycamore
DESCRIPTION:Sycamore is an informal course about the Christian faith and its relevance for life today. It gives you space to meet other people\, share ideas\, explore your beliefs\, and think about questions that really matter. Each session involves a short film\, time for discussion and pizza. This course is for 18-35 year olds. \nWe meet in Mardyke House\, Cork\, T12W8RP\, each Wednesday from 6-8pm. Everyone is welcome. \nFor more information please email miriamdunne@presentationbrothers.org
URL:https://training.actondev9.com/event/sycamore-2-2-2/2029-05-30/
CATEGORIES:LEAF
ATTACH;FMTTYPE=image/jpeg:https://training.actondev9.com/wp-content/uploads/2024/11/Sycamore-poster.jpg
END:VEVENT
BEGIN:VEVENT
DTSTART;TZID=UTC:20290530T180000
DTEND;TZID=UTC:20290530T200000
DTSTAMP:20260422T104855
CREATED:20250117T115909Z
LAST-MODIFIED:20250117T120042Z
UID:10001421-1874858400-1874865600@training.actondev9.com
SUMMARY:Sycamore
DESCRIPTION:Sycamore is an informal course about the Christian faith and its relevance for life today. It gives you space to meet other people\, share ideas\, explore your beliefs\, and think about questions that really matter. Each session involves a short film\, time for discussion and pizza. This course is for 18-35 year olds. \nWe meet in Mardyke House\, Cork\, T12W8RP\, each Wednesday from 6-8pm. Everyone is welcome. \nFor more information please email miriamdunne@presentationbrothers.org
URL:https://training.actondev9.com/event/sycamore-2-2-2-2/2029-05-30/
CATEGORIES:LEAF
ATTACH;FMTTYPE=image/jpeg:https://training.actondev9.com/wp-content/uploads/2024/11/Sycamore-poster.jpg
END:VEVENT
BEGIN:VEVENT
DTSTART;TZID=UTC:20290606T180000
DTEND;TZID=UTC:20290606T200000
DTSTAMP:20260422T104855
CREATED:20250117T115713Z
LAST-MODIFIED:20250117T115713Z
UID:10001163-1875463200-1875470400@training.actondev9.com
SUMMARY:Sycamore
DESCRIPTION:Sycamore is an informal course about the Christian faith and its relevance for life today. It gives you space to meet other people\, share ideas\, explore your beliefs\, and think about questions that really matter. Each session involves a short film\, time for discussion and pizza. This course is for 18-35 year olds. \nWe meet in Mardyke House\, Cork\, T12W8RP\, each Wednesday from 6-8pm. Everyone is welcome. \nFor more information please email miriamdunne@presentationbrothers.org
URL:https://training.actondev9.com/event/sycamore-2-2-2/2029-06-06/
CATEGORIES:LEAF
ATTACH;FMTTYPE=image/jpeg:https://training.actondev9.com/wp-content/uploads/2024/11/Sycamore-poster.jpg
END:VEVENT
BEGIN:VEVENT
DTSTART;TZID=UTC:20290606T180000
DTEND;TZID=UTC:20290606T200000
DTSTAMP:20260422T104855
CREATED:20250117T115909Z
LAST-MODIFIED:20250117T120042Z
UID:10001422-1875463200-1875470400@training.actondev9.com
SUMMARY:Sycamore
DESCRIPTION:Sycamore is an informal course about the Christian faith and its relevance for life today. It gives you space to meet other people\, share ideas\, explore your beliefs\, and think about questions that really matter. Each session involves a short film\, time for discussion and pizza. This course is for 18-35 year olds. \nWe meet in Mardyke House\, Cork\, T12W8RP\, each Wednesday from 6-8pm. Everyone is welcome. \nFor more information please email miriamdunne@presentationbrothers.org
URL:https://training.actondev9.com/event/sycamore-2-2-2-2/2029-06-06/
CATEGORIES:LEAF
ATTACH;FMTTYPE=image/jpeg:https://training.actondev9.com/wp-content/uploads/2024/11/Sycamore-poster.jpg
END:VEVENT
BEGIN:VEVENT
DTSTART;TZID=UTC:20290613T180000
DTEND;TZID=UTC:20290613T200000
DTSTAMP:20260422T104855
CREATED:20250117T115713Z
LAST-MODIFIED:20250117T115713Z
UID:10001164-1876068000-1876075200@training.actondev9.com
SUMMARY:Sycamore
DESCRIPTION:Sycamore is an informal course about the Christian faith and its relevance for life today. It gives you space to meet other people\, share ideas\, explore your beliefs\, and think about questions that really matter. Each session involves a short film\, time for discussion and pizza. This course is for 18-35 year olds. \nWe meet in Mardyke House\, Cork\, T12W8RP\, each Wednesday from 6-8pm. Everyone is welcome. \nFor more information please email miriamdunne@presentationbrothers.org
URL:https://training.actondev9.com/event/sycamore-2-2-2/2029-06-13/
CATEGORIES:LEAF
ATTACH;FMTTYPE=image/jpeg:https://training.actondev9.com/wp-content/uploads/2024/11/Sycamore-poster.jpg
END:VEVENT
BEGIN:VEVENT
DTSTART;TZID=UTC:20290613T180000
DTEND;TZID=UTC:20290613T200000
DTSTAMP:20260422T104855
CREATED:20250117T115909Z
LAST-MODIFIED:20250117T120042Z
UID:10001423-1876068000-1876075200@training.actondev9.com
SUMMARY:Sycamore
DESCRIPTION:Sycamore is an informal course about the Christian faith and its relevance for life today. It gives you space to meet other people\, share ideas\, explore your beliefs\, and think about questions that really matter. Each session involves a short film\, time for discussion and pizza. This course is for 18-35 year olds. \nWe meet in Mardyke House\, Cork\, T12W8RP\, each Wednesday from 6-8pm. Everyone is welcome. \nFor more information please email miriamdunne@presentationbrothers.org
URL:https://training.actondev9.com/event/sycamore-2-2-2-2/2029-06-13/
CATEGORIES:LEAF
ATTACH;FMTTYPE=image/jpeg:https://training.actondev9.com/wp-content/uploads/2024/11/Sycamore-poster.jpg
END:VEVENT
END:VCALENDAR